BEGIN:VCALENDAR
VERSION:2.0
PRODID:-//ChamberMaster//Event Calendar 2.0//EN
METHOD:PUBLISH
X-PUBLISHED-TTL:P3D
REFRESH-INTERVAL:P3D
CALSCALE:GREGORIAN
BEGIN:VEVENT
DTSTART:20160714T210000Z
DTEND:20160714T223000Z
X-MICROSOFT-CDO-ALLDAYEVENT:FALSE
SUMMARY:Prody Retirement Party
DESCRIPTION:Join LMHC to Celebrate Clair Prody\, CEO! Clair is retiring after 40 years of service at LMHC! Please join them as they wish him a happy retirement!
X-ALT-DESC;FMTTYPE=text/html:Join LMHC to Celebrate Clair Prody\, CEO! Clair is retiring after 40 years of service at LMHC! Please join them as they wish him a happy retirement!&nbsp\;
LOCATION:Lakeland Mental Health Center's Fergus Falls Office 980 South Tower Road Fergus Falls\, MN 56537
UID:e.314.32924
SEQUENCE:3
DTSTAMP:20260425T125538Z
URL:https://business.fergusfalls.com/events/details/prody-retirement-party-07-14-2016-32924
END:VEVENT

END:VCALENDAR
