BEGIN:VCALENDAR
VERSION:2.0
PRODID:-//ChamberMaster//Event Calendar 2.0//EN
METHOD:PUBLISH
X-PUBLISHED-TTL:P3D
REFRESH-INTERVAL:P3D
CALSCALE:GREGORIAN
BEGIN:VEVENT
DTSTART:20181208T150000Z
DTEND:20181210T040000Z
X-MICROSOFT-CDO-ALLDAYEVENT:FALSE
SUMMARY:Prophet Suraphel Demissie
DESCRIPTION:Prophet Suraphel Demissie draws crowds of thousands around the world. From South Africa\, this is his first USA visit. He is speaking on December 8 from 9-12 and 2-10 p.m.\; and on Sunday from 2-10 p.m. Admission is Free. Attached is a flyer: https://tinyurl.com/yboav8gn For more information: 612-545-6103
X-ALT-DESC;FMTTYPE=text/html:Prophet Suraphel Demissie draws crowds of thousands around the world. From South Africa\, this is his first USA visit. He is speaking on December 8 from 9-12 and 2-10 p.m.\; and on Sunday from 2-10 p.m. Admission is Free. Attached is a flyer: https://tinyurl.com/yboav8gn For more information: 612-545-6103
LOCATION:Kennedy Secondary School Auditorium 601 Randolph Avenue Fergus Falls
UID:e.314.51955
SEQUENCE:3
DTSTAMP:20260423T122057Z
URL:https://business.fergusfalls.com/events/details/prophet-suraphel-demissie-51955
END:VEVENT

END:VCALENDAR
