BEGIN:VCALENDAR
VERSION:2.0
PRODID:-//ChamberMaster//Event Calendar 2.0//EN
METHOD:PUBLISH
X-PUBLISHED-TTL:P3D
REFRESH-INTERVAL:P3D
CALSCALE:GREGORIAN
BEGIN:VEVENT
DTSTART:20180424T223000Z
DTEND:20180425T003000Z
X-MICROSOFT-CDO-ALLDAYEVENT:FALSE
SUMMARY:Prostate Awareness & Education Event
DESCRIPTION:Join us for a free educational event to help you better understand prostate cancer prevention\, detection\, and treatment with featured speakers Dr. Zvi Levran\, Urologist and Dr. Margret Barnes\, Radiation Oncologist. Enjoy food\, tours\, lectures\, and Q&A with the doctors. Topics covered will include screening\, surveillance\, and diagnosis of prostate cancer we well as current management best practices of newly diagnosed and recurrent prostate cancer.\n\n\n\nTuesday\, April 24 | 5:30pm-7:30pm\n\n5:30-5:50pm Light Meal served\, education\, and fellowship\n\n5:50pm Program begins with refreshments and tours between speakers\n\n7:20pm Wrap up
X-ALT-DESC;FMTTYPE=text/html:<span class="_4n-j _3cht fsl" data-testid="event-permalink-details">Join us for a free educational event to help you better understand prostate cancer prevention\, detection\, and treatment with featured speakers Dr. Zvi Levran\, Urologist and Dr. Margret Barnes\, Radiation Oncologist. Enjoy food\, tours\, lectures\, and Q&amp\;A with the doctors. Topics covered will include screening\, surveillance\, and diagnosis of prostate cancer we well as current management best practices of newly diagnosed and recurrent prostate cancer.<br />\n<br />\nTuesday\, April 24 | 5:30pm-7:30pm<br />\n5:30-5:50pm Light Meal served\, education\, and fellowship<br />\n5:50pm Program begins with refreshments and tours between speakers<br />\n7:20pm Wrap up</span>
LOCATION:Lake Region Healthcare Cancer Care & Research Center 908 Cascade Street South\, Fergus Falls\, Minnesota 56537
UID:e.314.48739
SEQUENCE:3
DTSTAMP:20260423T235157Z
URL:https://business.fergusfalls.com/events/details/prostate-awareness-education-event-48739
END:VEVENT

END:VCALENDAR
