BEGIN:VCALENDAR
VERSION:2.0
PRODID:-//ChamberMaster//Event Calendar 2.0//EN
METHOD:PUBLISH
X-PUBLISHED-TTL:P3D
REFRESH-INTERVAL:P3D
CALSCALE:GREGORIAN
BEGIN:VEVENT
DTSTART:20190404T213000Z
DTEND:20190404T230000Z
X-MICROSOFT-CDO-ALLDAYEVENT:FALSE
SUMMARY:PS/PK/Kindergarten Roundup Open House for Morning Son
DESCRIPTION:Come and See! Visit our classrooms and meet our teachers.
X-ALT-DESC;FMTTYPE=text/html:<div class="_63ew" data-testid="event-permalink-details"><span>Come and See! Visit our classrooms and meet our teachers.</span></div>\n
LOCATION:Morning Son Christian School - Fergus Falls\, MN 1319 N Cleveland Ave\, Fergus Falls
UID:e.314.53050
SEQUENCE:3
DTSTAMP:20260423T063334Z
URL:https://business.fergusfalls.com/events/details/ps-pk-kindergarten-roundup-open-house-for-morning-son-53050
END:VEVENT

END:VCALENDAR
