BEGIN:VCALENDAR
VERSION:2.0
PRODID:-//ChamberMaster//Event Calendar 2.0//EN
METHOD:PUBLISH
X-PUBLISHED-TTL:P3D
REFRESH-INTERVAL:P3D
CALSCALE:GREGORIAN
BEGIN:VEVENT
DTSTART:20190509T173000Z
DTEND:20190509T193000Z
X-MICROSOFT-CDO-ALLDAYEVENT:FALSE
SUMMARY:Public Safety Open House for children Preschool-3rd graders
DESCRIPTION:Public Safety Open House for children Preschool-3rd graders\n\n \nThursday\, May 9th from 12:30-2:30 - in lower parking lot of the Fergus Falls Police Department and Washington Avenue in front of City Hall. Daycares\, preschools\, home schooled children are invited to attend. The private/public schools have been invited.
X-ALT-DESC;FMTTYPE=text/html:<a data-hovercard="/ajax/hovercard/event.php?id=414333859363326&amp\;extragetparams=%7B%22source%22%3A3%2C%22source_newsfeed_story_type%22%3A%22regular%22%2C%22feed_story_type%22%3A117%2C%22action_history%22%3A%22%5B%7B%5C%22surface%5C%22%3A%5C%22newsfeed%5C%22%2C%5C%22mechanism%5C%22%3A%5C%22feed_story%5C%22%2C%5C%22extra_data%5C%22%3A%5B%5D%7D%5D%22%7D" data-hovercard-prefer-more-content-show="1" href="https://www.facebook.com/events/414333859363326/?acontext=%7B%22ref%22%3A%223%22%2C%22ref_newsfeed_story_type%22%3A%22regular%22%2C%22feed_story_type%22%3A%22117%22%2C%22action_history%22%3A%22%5B%7B%5C%22surface%5C%22%3A%5C%22newsfeed%5C%22%2C%5C%22mechanism%5C%22%3A%5C%22feed_story%5C%22%2C%5C%22extra_data%5C%22%3A%5B%5D%7D%5D%22%7D&amp\;__xts__%5B0%5D=68.ARDMTUa1Ml3ECA3q6BmoxPTMO1DOIDQwZ8NvjF5OA_QyUivGBjZrJtnBRWWdN_ys-aff00I9on-9zelrvaBGw2TP66uHC8hJvys7dNGzMFwSDGsf3bfGWBxPqjVZXCkpN4Ib13CMew-IuulIt70XBOz-oDIxEHc8V1Nr-G4rAA4ot0rdliJ4-EP3nOTLggBj78Fu8fE-lo82jlOV0wO6ttNr-zO18T-YfljPTVAuj0pomCqsM493YQHQqBCkOb8qIu3k2ZUCIGW2OUR31D1ZHw&amp\;__tn__=HH-R"><font color="#0066cc">Public Safety Open House for children Preschool-3rd graders</font></a><br />\n&nbsp\;\n<div class="_63ew" data-testid="event-permalink-details"><span>Thursday\, May 9th from 12:30-2:30 - in lower parking lot of the Fergus Falls Police Department and Washington Avenue in front of City Hall. Daycares\, preschools\, home schooled children are invited to attend. The private/public schools have been invited. </span></div>\n
LOCATION:
UID:e.314.53881
SEQUENCE:3
DTSTAMP:20260423T050726Z
URL:https://business.fergusfalls.com/events/details/public-safety-open-house-for-children-preschool-3rd-graders-53881
END:VEVENT

END:VCALENDAR
