BEGIN:VCALENDAR
VERSION:2.0
PRODID:-//ChamberMaster//Event Calendar 2.0//EN
METHOD:PUBLISH
X-PUBLISHED-TTL:P3D
REFRESH-INTERVAL:P3D
CALSCALE:GREGORIAN
BEGIN:VEVENT
DTSTART:20160519T020000Z
DTEND:20160519T040000Z
X-MICROSOFT-CDO-ALLDAYEVENT:FALSE
SUMMARY:Purple Rain Party
DESCRIPTION:Join us on Wednesday for our Purple Rain Party! Prince and Prince-inspired music will be played all night from 9:00pm-1:00am. You are encouraged to wear purple\, dress the part\, and come honor the memory of a true musician. We are also offering specials like our Purple Rain Drink ($3.50)\, as well as Domestic Taps and Rails ($2.00).
X-ALT-DESC;FMTTYPE=text/html:<div>Join us on Wednesday for our Purple Rain Party! Prince and Prince-inspired music will be played all night from 9:00pm-1:00am. You are encouraged to wear purple\, dress the part\, and come honor the memory of a true musician. We are also offering specials like our Purple Rain Drink ($3.50)\, as well as Domestic Taps and Rails ($2.00).</div>\n
LOCATION:Z103 Bar & Grill
UID:e.314.32683
SEQUENCE:3
DTSTAMP:20260425T163152Z
URL:https://business.fergusfalls.com/events/details/purple-rain-party-05-18-2016-32683
END:VEVENT

END:VCALENDAR
