BEGIN:VCALENDAR
VERSION:2.0
PRODID:-//ChamberMaster//Event Calendar 2.0//EN
METHOD:PUBLISH
X-PUBLISHED-TTL:P3D
REFRESH-INTERVAL:P3D
CALSCALE:GREGORIAN
BEGIN:VEVENT
DTSTART:20160617T160000Z
DTEND:20160617T190000Z
X-MICROSOFT-CDO-ALLDAYEVENT:FALSE
SUMMARY:Quality Toyota's 35th ANNIVERSARY
DESCRIPTION:Come celebrate Quality Toyota's 35th ANNIVERSARY on Friday June 17th from 11am to 2pm! We'll be serving hot dogs and pop!\n\nAlso register at Quality Toyota for the chance to win:\n\n-4 Minnesota Twins Tickets\n\n-4 Passes to Nickelodeon Universe\n\n-Family Dinner at Ten Mile Steakhouse...\n\n-"New Car Look" Reconditioning package for your car!
X-ALT-DESC;FMTTYPE=text/html:Come celebrate Quality Toyota&#39\;s 35th ANNIVERSARY on Friday June 17th from 11am to 2pm! We&#39\;ll be serving hot dogs and pop!<br />\nAlso register at Quality Toyota for the chance to win:<br />\n-4 Minnesota Twins Tickets<br />\n-4 Passes to Nickelodeon Universe<br />\n-Family Dinner at Ten Mile Steakhouse<span class="text_exposed_hide">...</span><br />\n<span class="text_exposed_show">-&quot\;New Car Look&quot\; Reconditioning package for your car!</span>
LOCATION:Quality Toyota 1125 West Lincoln Avenue Fergus Falls\, MN
UID:e.314.32885
SEQUENCE:3
DTSTAMP:20260425T130734Z
URL:https://business.fergusfalls.com/events/details/quality-toyota-s-35th-anniversary-06-17-2016-32885
END:VEVENT

END:VCALENDAR
