BEGIN:VCALENDAR
VERSION:2.0
PRODID:-//ChamberMaster//Event Calendar 2.0//EN
METHOD:PUBLISH
X-PUBLISHED-TTL:P3D
REFRESH-INTERVAL:P3D
CALSCALE:GREGORIAN
BEGIN:VEVENT
DTSTART:20190912T140000Z
DTEND:20190912T180000Z
X-MICROSOFT-CDO-ALLDAYEVENT:FALSE
SUMMARY:QuickBooks Essentials Desktop Training
DESCRIPTION:A Small Investment in Training Can Create Huge Productivity Gains\nAttend a half day training seminar and learn to put the power of QuickBooks to work for your business.\n\n\n\nNot only will you learn the essentials of QuickBooks\, you will learn common mistakes to avoid\, how to automate aspects of your bookkeeping\, how to manage cash flow and more. This training will save you money by reducing hours spent on your bookkeeping while increasing productivity.\n\n\n\nCost: 4-hour seminar for only $95.00\n\nContact us to register today! \n\nClass size is limited to provide the personalized attention you deserve.
X-ALT-DESC;FMTTYPE=text/html:<h1 style="text-align: center\;"><span style="font-size: 18px\;">A Small Investment in Training Can Create Huge Productivity Gains</span></h1>\n<span style="color: rgb(29\, 33\, 41)\; font-family: helvetica\,arial\,sans-serif\; font-size: 14px\;">Attend a half day training seminar and learn to put the power of QuickBooks to work for your business.</span><br />\n<br />\n<span style="color: rgb(29\, 33\, 41)\; font-family: helvetica\,arial\,sans-serif\; font-size: 14px\;">Not only will you learn the essentials of QuickBooks\, you will learn common mistakes to avoid\, how to automate aspects of your bookkeeping\, how to manage cash flow and more. This training will save you money by reducing hours spent on your bookkeeping while increasing productivity.</span><br />\n<br />\n<span style="color: rgb(29\, 33\, 41)\; font-family: helvetica\,arial\,sans-serif\; font-size: 14px\;">Cost: 4-hour seminar for only $95.00</span><br />\n<a href="https://www.multi-business-solutions.com/services/quickbooks-training/register/"><span style="color: rgb(29\, 33\, 41)\; font-family: helvetica\,arial\,sans-serif\; font-size: 14px\;">Contact us to register today! </span></a><br />\n<span style="color: rgb(29\, 33\, 41)\; font-family: helvetica\,arial\,sans-serif\; font-size: 14px\;">Class size is limited to provide the personalized attention you deserve.</span>
LOCATION:Multi Business Solutions Office 22599 Birchwood Estates Lane Fergus Falls\, MN 56537 phone: 218-770-2691 email: office@multi-business-solutions.com
UID:e.314.54566
SEQUENCE:3
DTSTAMP:20260422T221439Z
URL:https://business.fergusfalls.com/events/details/quickbooks-essentials-desktop-training-54566
END:VEVENT

END:VCALENDAR
