BEGIN:VCALENDAR
VERSION:2.0
PRODID:-//ChamberMaster//Event Calendar 2.0//EN
METHOD:PUBLISH
X-PUBLISHED-TTL:P3D
REFRESH-INTERVAL:P3D
CALSCALE:GREGORIAN
BEGIN:VEVENT
DTSTART:20191010T140000Z
DTEND:20191010T180000Z
X-MICROSOFT-CDO-ALLDAYEVENT:FALSE
SUMMARY:QuickBooks Online Training course
DESCRIPTION:Quickbooks Online training is available to help you KNOW MORE and DO BETTER! \n\nLearn to move around in QuickBooks more easily\, correctly configure your company file\, set up users\, and create robust reporting. We also cover how to process accounts receivable and payable\, enter bills\, pay bills\, memorize bills and far more. Contact us to register or pass on the information to someone else that might be interested!
X-ALT-DESC;FMTTYPE=text/html:Quickbooks Online training is available to help you KNOW MORE and DO BETTER!&nbsp\;<br />\n<span style="color:rgba(0\, 0\, 0\, 0.9)\; font-family:-apple-system\,system-ui\,blinkmacsystemfont\,segoe ui\,roboto\,helvetica neue\,fira sans\,ubuntu\,oxygen\,oxygen sans\,cantarell\,droid sans\,apple color emoji\,segoe ui emoji\,segoe ui symbol\,lucida grande\,helvetica\,arial\,sans-serif\; font-size:14px">Learn to move around in QuickBooks more easily\, correctly configure your company file\, set up users\, and create robust reporting. We also cover how to process accounts receivable and payable\, enter bills\, pay bills\, memorize bills and far more. Contact us to register or pass on the information to someone else that might be interested! </span>
LOCATION:22599 Birchwood Estates Lane\, Fergus Falls\, MN 56537
UID:e.314.54783
SEQUENCE:3
DTSTAMP:20260422T203621Z
URL:https://business.fergusfalls.com/events/details/quickbooks-online-training-course-54783
END:VEVENT

END:VCALENDAR
