BEGIN:VCALENDAR
VERSION:2.0
PRODID:-//ChamberMaster//Event Calendar 2.0//EN
METHOD:PUBLISH
X-PUBLISHED-TTL:P3D
REFRESH-INTERVAL:P3D
CALSCALE:GREGORIAN
BEGIN:VEVENT
DTSTART:20181212T160000Z
DTEND:20181212T200000Z
X-MICROSOFT-CDO-ALLDAYEVENT:FALSE
SUMMARY:QuickBooks Training course
DESCRIPTION:ATTENTION Chamber Members!\n\n\n\nLearn to effectively use QuickBooks in your business and take control of your finances. Attend a 4-hour power class on Wednesday\, December 12\, 2018 at the Multi Business Solutions Office.\n\n\n\nClass size is limited so each attendee receives the personalized attention they deserve!\n\n\n\nChamber members can register for the discounted price of $85.00! \n\n\n\nContact us to register today!  \n\nPhone: 218-955-7317 \n\nEmail: office@multi-business-solutions.com\n\nWebsite: www.multi-business-solutions.com
X-ALT-DESC;FMTTYPE=text/html:<strong>ATTENTION Chamber Members!</strong><br />\n<br />\nLearn to <em><strong>effectively </strong></em>use QuickBooks&nbsp\;in your business and take control of your finances.&nbsp\;Attend a 4-hour power class on Wednesday\, December 12\, 2018 at the Multi Business Solutions Office.<br />\n<br />\nClass size is limited so each attendee receives the personalized attention they deserve!<br />\n<br />\nChamber members can register for the discounted price of $85.00!&nbsp\;<br />\n<br />\n<span style="font-size: 14px\;"><strong>Contact us to register today!&nbsp\; </strong><br />\n<strong><span style="color: rgb(34\, 34\, 34)\;">Phone: </span></strong><span style="color: rgb(34\, 34\, 34)\;">218-955-7317 </span><br />\n<strong><span style="color: rgb(34\, 34\, 34)\;">Email: </span></strong><span style="color: rgb(34\, 34\, 34)\;"><a href="mailto:office@multi-business-solutions.com"><span style="color: rgb(34\, 34\, 34)\;">office@multi-business-solutions.com</span></a></span><br />\n<strong><span style="color: rgb(34\, 34\, 34)\;">Website: </span></strong><span style="color: rgb(34\, 34\, 34)\;"><a href="http://www.multi-business-solutions.com/"><span style="color: rgb(34\, 34\, 34)\;">www.multi-business-solutions.com</span></a></span></span><br />\n<br />\n&nbsp\;
LOCATION:Multi Business Solutions Office 22599 Birchwood Estates Lane Fergus Falls\, MN 56537
UID:e.314.51966
SEQUENCE:3
DTSTAMP:20260423T121941Z
URL:https://business.fergusfalls.com/events/details/quickbooks-training-course-12-12-2018-51966
END:VEVENT

END:VCALENDAR
