BEGIN:VCALENDAR
VERSION:2.0
PRODID:-//ChamberMaster//Event Calendar 2.0//EN
METHOD:PUBLISH
X-PUBLISHED-TTL:P3D
REFRESH-INTERVAL:P3D
CALSCALE:GREGORIAN
BEGIN:VEVENT
DTSTART:20181018T150000Z
DTEND:20181018T190000Z
X-MICROSOFT-CDO-ALLDAYEVENT:FALSE
SUMMARY:QuickBooks Training course
DESCRIPTION:As certified QuickBooks experts\, Multi Business Solutions has the resources and experience to provide classroom training sessions. Our next QuickBooks class will be held October 18\, 2018 at the Fergus Falls Library (1505 Pebble Lake Road in Fergus Falls\, MN ) from 10:00am-2:00pm. Call 218-955-7317 to register today as class size is limited!
X-ALT-DESC;FMTTYPE=text/html:<span style="color:rgb(32\, 33\, 36)\; font-family:roboto\,robotodraft\,helvetica\,arial\,sans-serif\; font-size:14px">As certified QuickBooks experts\, Multi Business Solutions has the resources and experience to provide classroom training sessions. Our next QuickBooks class will be held October 18\, 2018 at the Fergus Falls Library (1505 Pebble Lake Road in Fergus Falls\, MN ) from 10:00am-2:00pm. Call 218-955-7317 to register today as class size is limited!</span>
LOCATION:Fergus Falls Library - 1505 Pebble Lake Road in Fergus Falls\, MN
UID:e.314.50381
SEQUENCE:3
DTSTAMP:20260423T150529Z
URL:https://business.fergusfalls.com/events/details/quickbooks-training-course-50381
END:VEVENT

END:VCALENDAR
