BEGIN:VCALENDAR
VERSION:2.0
PRODID:-//ChamberMaster//Event Calendar 2.0//EN
METHOD:PUBLISH
X-PUBLISHED-TTL:P3D
REFRESH-INTERVAL:P3D
CALSCALE:GREGORIAN
BEGIN:VEVENT
DTSTART:20160418T223000Z
DTEND:20160419T000000Z
X-MICROSOFT-CDO-ALLDAYEVENT:FALSE
SUMMARY:R U New Here
DESCRIPTION:Recently moved to Fergus Falls? Want to learn more about your new community? This fun and informative family event provides an introduction to the history and development of Fergus Falls\, its culture\, activity and life.\n\n\n\nBBQ sandwich supper provided. Win a family prize basket (must be present to win). Pre-register at Community Education Office:  218-998-0544\, ext. 9200\, or Security State Bank:  218-736-5485 - by April 13\, 2016.
X-ALT-DESC;FMTTYPE=text/html:Recently moved to Fergus Falls? Want to learn more about your new community? This fun and informative family event provides an introduction to the history and development of Fergus Falls\, its culture\, activity and life.<br />\n<br />\nBBQ sandwich supper provided. Win a family prize basket (must be present to win). Pre-register at Community Education Office: &nbsp\;218-998-0544\, ext. 9200\, or Security State Bank: &nbsp\;218-736-5485 - by April 13\, 2016.
LOCATION:Roosevelt Education Center/Community Education\, 340 Friberg Avenue Door A
UID:e.314.24050
SEQUENCE:3
DTSTAMP:20260425T162841Z
URL:https://business.fergusfalls.com/events/details/r-u-new-here-04-18-2016-24050
END:VEVENT

END:VCALENDAR
