BEGIN:VCALENDAR
VERSION:2.0
PRODID:-//ChamberMaster//Event Calendar 2.0//EN
METHOD:PUBLISH
X-PUBLISHED-TTL:P3D
REFRESH-INTERVAL:P3D
CALSCALE:GREGORIAN
BEGIN:VEVENT
DTSTART:20160629T160000Z
DTEND:20160629T190000Z
X-MICROSOFT-CDO-ALLDAYEVENT:FALSE
SUMMARY:Race Day at American National Bank
DESCRIPTION:American National Bank will be hosting a Race Day on June 29th from 11:00 am - 2:00 pm.\n\n\n\nBrock Gronwold and Sam Zender's cars will be here. The Green Canteen Food Truck will be on-site. \n\n\n\nDon't miss the giveaways and fun for the whole family!
X-ALT-DESC;FMTTYPE=text/html:<span style="font-size:20px\;"><strong><span style="color:#FF0000\;"><span style="font-family: helvetica\, arial\, sans-serif\; line-height: 18.76px\;">American National Bank will be hosting a Race Day on June 29th from 11:00 am - 2:00 pm.</span></span></strong></span><br />\n<br />\n<span style="color: rgb(75\, 79\, 86)\; font-family: helvetica\, arial\, sans-serif\; font-size: 14px\; line-height: 18.76px\;"><span style="font-size:18px\;">Brock Gronwold and Sam Zender&#39\;s cars will be here. The Green Canteen Food Truck will be on-site. </span></span><br />\n<br />\n<strong><span style="color:#0000FF\;"><span style="font-family: helvetica\, arial\, sans-serif\; font-size: 14px\; line-height: 18.76px\;"><span style="font-size:18px\;">Don&#39\;t miss the giveaways and fun for the whole family!</span></span></span></strong>
LOCATION:727 Western Ave Fergus Falls MN
UID:e.314.32894
SEQUENCE:3
DTSTAMP:20260425T131239Z
URL:https://business.fergusfalls.com/events/details/race-day-at-american-national-bank-06-29-2016-32894
END:VEVENT

END:VCALENDAR
