BEGIN:VCALENDAR
VERSION:2.0
PRODID:-//ChamberMaster//Event Calendar 2.0//EN
METHOD:PUBLISH
X-PUBLISHED-TTL:P3D
REFRESH-INTERVAL:P3D
CALSCALE:GREGORIAN
BEGIN:VEVENT
DTSTART:20190908T143000Z
DTEND:20190908T173000Z
X-MICROSOFT-CDO-ALLDAYEVENT:FALSE
SUMMARY:Rally Day
DESCRIPTION:Kick off fall with Federated Church on September 8th! \n\n- Worship at 9:30am\n\n- Blessing backpacks at 9:30am\n\n- Giving K and 4th grade students new Bibles at 9:30am\n\n- Games and Prizes: Trivia\, Bingo and Bean Bag Tournament at 10:30am\n\n- BBQ Pulled Pork Lunch at 10:30am
X-ALT-DESC;FMTTYPE=text/html:Kick off fall with Federated Church on September 8th!&nbsp\;<br />\n- Worship at 9:30am<br />\n- Blessing backpacks at 9:30am<br />\n- Giving K and 4th grade students new Bibles at 9:30am<br />\n- Games and Prizes: Trivia\, Bingo and Bean Bag Tournament at 10:30am<br />\n- BBQ Pulled Pork Lunch at 10:30am
LOCATION:The Federated Church 224 North Union Ave Fergus Falls\, MN 56537
UID:e.314.54575
SEQUENCE:3
DTSTAMP:20260422T222336Z
URL:https://business.fergusfalls.com/events/details/rally-day-54575
END:VEVENT

END:VCALENDAR
