BEGIN:VCALENDAR
VERSION:2.0
PRODID:-//ChamberMaster//Event Calendar 2.0//EN
METHOD:PUBLISH
X-PUBLISHED-TTL:P3D
REFRESH-INTERVAL:P3D
CALSCALE:GREGORIAN
BEGIN:VEVENT
DTSTART:20180930T160000Z
DTEND:20180930T190000Z
X-MICROSOFT-CDO-ALLDAYEVENT:FALSE
SUMMARY:Rally Day at Salvation Army
DESCRIPTION:125TH ANNIVERSARY\n\nPlease join us  for the following FREE activities in recognition of The Salvation Army celebrating 125 years in Fergus Falls\, Minnesota.  \n\n\n\nL O C A T I O N : 6 2 2 E V E R N O N A V E \, F E R G U S F A L L S\n\n \n\n	Saturday\, September 29 11am-2pm Open House and Canteen Sunday\,\n	September 30 9:30am Coffee Fellowship 10am Worship 11am-2pm Rally Day Festival in the Parking Lot
X-ALT-DESC;FMTTYPE=text/html:<span style="color: rgb(255\, 0\, 0)\;"><span style="font-size: 22px\;">125TH ANNIVERSARY</span></span><br />\n<strong>Please join us&nbsp\; for the following FREE activities in recognition of The Salvation Army celebrating 125 years in Fergus Falls\, Minnesota.&nbsp\;&nbsp\;</strong><br />\n<br />\nL O C A T I O N : 6 2 2 E V E R N O N A V E \, F E R G U S F A L L S<br />\n&nbsp\;\n<ul>\n	<li>Saturday\, September 29 11am-2pm Open House and Canteen Sunday\,</li>\n	<li>September 30 9:30am Coffee Fellowship 10am Worship 11am-2pm Rally Day Festival in the Parking Lot&nbsp\;</li>\n</ul>\n
LOCATION:
UID:e.314.50372
SEQUENCE:3
DTSTAMP:20260423T165230Z
URL:https://business.fergusfalls.com/events/details/rally-day-at-salvation-army-50372
END:VEVENT

END:VCALENDAR
