BEGIN:VCALENDAR
VERSION:2.0
PRODID:-//ChamberMaster//Event Calendar 2.0//EN
METHOD:PUBLISH
X-PUBLISHED-TTL:P3D
REFRESH-INTERVAL:P3D
CALSCALE:GREGORIAN
BEGIN:VEVENT
DTSTART:20180909T180000Z
DTEND:20180910T003000Z
X-MICROSOFT-CDO-ALLDAYEVENT:FALSE
SUMMARY:Rally Sunday -- Thunder Road!
DESCRIPTION:Hello Parents and Students of First Lutheran Church. Please fill this form out to reserve your spot for Rally Sunday's event... Thunder Road!\n\nSome quick notes:\n\nThis event will be on Sunday September 9th\, 2018. We will be leaving FLC at 1pm! Remember to eat lunch beforehand. We will spend some time at Thunder Road and then we'll leave shortly before dinner time and head out to Lindenwood Park for pizza and more games. Afterwards we will return to Fergus Falls (around 7:30pm). The cost of this event is $20.
X-ALT-DESC;FMTTYPE=text/html:Hello Parents and Students of First Lutheran Church. Please fill this form out to reserve your spot for Rally Sunday&#39\;s event... Thunder Road!<br />\nSome quick notes:<br />\nThis event will be on Sunday September 9th\, 2018. We will be leaving FLC at 1pm! Remember to eat lunch beforehand. We will spend some time at Thunder Road and then we&#39\;ll leave shortly before dinner time and head out to Lindenwood Park for pizza and more games. Afterwards we will return to Fergus Falls (around 7:30pm). The cost of this event is $20.
LOCATION:Hosted by First Lutheran Church\, Fergus Falls\, ELCA Thunder Road Fargo 2902 Thunder Rd S\, Fargo ND
UID:e.314.50327
SEQUENCE:3
DTSTAMP:20260423T164951Z
URL:https://business.fergusfalls.com/events/details/rally-sunday-thunder-road-50327
END:VEVENT

END:VCALENDAR
