BEGIN:VCALENDAR
VERSION:2.0
PRODID:-//ChamberMaster//Event Calendar 2.0//EN
METHOD:PUBLISH
X-PUBLISHED-TTL:P3D
REFRESH-INTERVAL:P3D
CALSCALE:GREGORIAN
BEGIN:VEVENT
DTSTART:20171201T230000Z
DTEND:20171202T020000Z
X-MICROSOFT-CDO-ALLDAYEVENT:FALSE
SUMMARY:Ray Erickson Benefit
DESCRIPTION:Since the spring on 2015\, Ray Erickson has been battling Polycystic Kidney Disease which severely damaged his kidneys. After 2 years of dialysis\, he is going through the kidney transplant process.\n\nRay is a colon cancer survivor and has worked for more than 20 years as a technician at Nelson Auto Center. His wife\, Vicki\, is an RN at Lake Region Healthcare. Their daughters Nicki (Dan) Gaines and Kelsey (Andy) Larsen live and work in Fergus Falls. Their son Nate (Jeannette) live in Phoenix\, AZ.\n\nThis benefit will help defray medical costs and living expenses\, allowing his family to concentrate on Ray's care and treatment. Please join together at Bethel Church for a Free Will Meatball Dinner & Silent Auction.\n\nSilent Auction Donations (gift certificates\, items) can be mailed or dropped off at:\n\nRay Erickson Benefit\n\nc/o Bethel Lutheran Church\n\n702 W. Alcott Ave.\n\nFergus Falls\, MN 56537\n\nMonetary donations can be mailed to:\n\nRay Erickson Benefit\n\nc/o American Federal Bank\n\n117 S. Mill St.\n\nFergus Falls\, MN 56537
X-ALT-DESC;FMTTYPE=text/html:Since the spring on 2015\, Ray Erickson has been battling Polycystic Kidney Disease which severely damaged his kidneys. After 2 years of dialysis\, he is going through the kidney transplant process.<br />\nRay is a colon cancer survivor and has worked for more than 20 years as a technician at Nelson Auto Center. His wife\, Vicki\, is an RN at Lake Region Healthcare. Their daughters Nicki (Dan) Gaines and Kelsey (Andy) Larsen live and work in Fergus Falls. Their son Nate (Jeannette) live in Phoenix\, AZ.<br />\nThis benefit will help defray medical costs and living expenses\, allowing his family to concentrate on Ray&#39\;s care and treatment. Please join together at Bethel Church for a Free Will Meatball Dinner &amp\; Silent Auction.<br />\n<strong>Silent Auction Donations (gift certificates\, items) can be mailed or dropped off at:</strong><br />\nRay Erickson Benefit<br />\nc/o Bethel Lutheran Church<br />\n702 W. Alcott Ave.<br />\nFergus Falls\, MN 56537<br />\n<strong>Monetary donations can be mailed to:</strong><br />\nRay Erickson Benefit<br />\nc/o American Federal Bank<br />\n117 S. Mill St.<br />\nFergus Falls\, MN 56537
LOCATION:Bethel Lutheran Church 702 W. Alcott Ave. Fergus Falls\, MN
UID:e.314.43055
SEQUENCE:3
DTSTAMP:20260424T060255Z
URL:https://business.fergusfalls.com/events/details/ray-erickson-benefit-43055
END:VEVENT

END:VCALENDAR
