BEGIN:VCALENDAR
VERSION:2.0
PRODID:-//ChamberMaster//Event Calendar 2.0//EN
METHOD:PUBLISH
X-PUBLISHED-TTL:P3D
REFRESH-INTERVAL:P3D
CALSCALE:GREGORIAN
BEGIN:VEVENT
DTSTART:20180414T003000Z
DTEND:20180415T020000Z
X-MICROSOFT-CDO-ALLDAYEVENT:FALSE
SUMMARY:Reader's Theater
DESCRIPTION:Reader's Theater\n\nApril 13 & 14  7:30 pm\n\nReader's Theater at it's best!  Local actors take the stage with the audience "up close and personal."  OnStage General Seating available.  Limited to 40.
X-ALT-DESC;FMTTYPE=text/html:<p><span style="font-size: 18pt\;">Reader&#39\;s Theater</span></p>\n\n<p><em><span style="font-size: 14pt\;">April 13 &amp\; 14&nbsp\; 7:30 pm</span></em></p>\n\n<p><span style="font-size: 12pt\;">Reader&#39\;s Theater at it&#39\;s best!&nbsp\; Local actors take the stage with the audience &quot\;up close and personal.&quot\;&nbsp\; OnStage General Seating available.&nbsp\; Limited to 40.</span></p>\n
LOCATION:A Center for the Arts 124 W Lincoln Ave Fergus Falls\, MN 56537
UID:e.314.47376
SEQUENCE:3
DTSTAMP:20260423T235041Z
URL:https://business.fergusfalls.com/events/details/reader-s-theater-47376
END:VEVENT

END:VCALENDAR
