BEGIN:VCALENDAR
VERSION:2.0
PRODID:-//ChamberMaster//Event Calendar 2.0//EN
METHOD:PUBLISH
X-PUBLISHED-TTL:P3D
REFRESH-INTERVAL:P3D
CALSCALE:GREGORIAN
BEGIN:VEVENT
DTSTART:20200711T153000Z
DTEND:20200711T170000Z
X-MICROSOFT-CDO-ALLDAYEVENT:FALSE
SUMMARY:Real Estate OPEN HOUSE on Two Rivers Road
DESCRIPTION:Come & have a tour of your dream house on the Pelican River.
X-ALT-DESC;FMTTYPE=text/html:Come &amp\; have a tour of your dream house on the Pelican River.
LOCATION:631 Two Rivers Road Fergus Falls\, MN
UID:e.314.57768
SEQUENCE:3
DTSTAMP:20260422T082025Z
URL:https://business.fergusfalls.com/events/details/real-estate-open-house-on-two-rivers-road-57768
END:VEVENT

END:VCALENDAR
