BEGIN:VCALENDAR
VERSION:2.0
PRODID:-//ChamberMaster//Event Calendar 2.0//EN
METHOD:PUBLISH
X-PUBLISHED-TTL:P3D
REFRESH-INTERVAL:P3D
CALSCALE:GREGORIAN
BEGIN:VEVENT
DTSTART:20170824T223000Z
DTEND:20170825T003000Z
X-MICROSOFT-CDO-ALLDAYEVENT:FALSE
SUMMARY:Recreational Aquatic Facility Committee - Open to the public
DESCRIPTION:Interested in a recreational aquatic facility in Fergus Falls? A local family aquatics committee is gathering feedback on concepts for just that! There will be two opportunities to provide your input:\n\n\n\nAugust 24\, 5:30 pm - 7:30 pm @ Roosevelt Park
X-ALT-DESC;FMTTYPE=text/html:<span aria-live="polite" class="fbPhotosPhotoCaption" data-ft="{&quot\;tn&quot\;:&quot\;K&quot\;}" id="fbPhotoSnowliftCaption" tabindex="0"><span class="hasCaption">Interested in a recreational aquatic facility in Fergus Falls? A local family aquatics committee is gathering feedback on concepts for just that! There will be two opportunities to provide your input:<br />\n<br />\nAugust 24\, 5:30 pm - 7:30 pm @ Roosevelt Park</span></span>
LOCATION:
UID:e.314.41059
SEQUENCE:3
DTSTAMP:20260424T134249Z
URL:https://business.fergusfalls.com/events/details/recreational-aquatic-facility-committee-open-to-the-public-41059
END:VEVENT

END:VCALENDAR
