BEGIN:VCALENDAR
VERSION:2.0
PRODID:-//ChamberMaster//Event Calendar 2.0//EN
METHOD:PUBLISH
X-PUBLISHED-TTL:P3D
REFRESH-INTERVAL:P3D
CALSCALE:GREGORIAN
BEGIN:VEVENT
DTSTART:20191106T150000Z
DTEND:20191106T170000Z
X-MICROSOFT-CDO-ALLDAYEVENT:FALSE
SUMMARY:Recruiting and Retaining Top Employees- Fergus Falls
DESCRIPTION:Recruiting and Retaining Top Employees 11/6 - Finding and keeping the best employees is a key issue for small businesses in Minnesota. Join our consultant Deb McGregor as she shares tips for finding and keeping top employees. 9 11am $10 registration fee hosted at West Central Initiative.\n\nRegister here: https://events.r20.constantcontact.com/register/eventReg?oeidk=a07egj3r3ye33aa6236&oseq=&c=&ch=
X-ALT-DESC;FMTTYPE=text/html:<div class="_63ew" data-testid="event-permalink-details"><span>Recruiting and Retaining Top Employees 11/6 - Finding and keeping the best employees is a key issue for small businesses in Minnesota. Join our consultant Deb McGregor as she shares tips for finding and keeping top employees. 9&mdash\;11am&mdash\;$10 registration fee&mdash\;hosted at West Central Initiative.<br />\nRegister here: <a data-lynx-mode="hover" data-lynx-uri="https://l.facebook.com/l.php?u=https%3A%2F%2Fevents.r20.constantcontact.com%2Fregister%2FeventReg%3Foeidk%3Da07egj3r3ye33aa6236%26oseq%3D%26c%3D%26ch%3D%26fbclid%3DIwAR0K2oaY1r18dNy_nyxyzHyrOYz1VKd_Z_HWRgpnwU2YjZD6FFNLUspM2sU&amp\;h=AT01gvV5Zcxik_VsJTQFPXUmpfC5NFNAuVw2im5zq6qmH93l6DQJ6Ow7jNa-T0ngBRbWaE22heD38_I1OQLdN5THJ7KvhnDUUtq5LdlLSoDeDk6pv88mlQ4L4BC_pl6lEw" href="https://events.r20.constantcontact.com/register/eventReg?oeidk=a07egj3r3ye33aa6236&amp\;oseq=&amp\;c=&amp\;ch=&amp\;fbclid=IwAR0K2oaY1r18dNy_nyxyzHyrOYz1VKd_Z_HWRgpnwU2YjZD6FFNLUspM2sU" rel="nofollow" target="_blank"><font color="#0066cc">https://events.r20.constantcontact.com/register/eventReg?oeidk=a07egj3r3ye33aa6236&amp\;oseq=&amp\;c=&amp\;ch=</font></a></span></div>\n
LOCATION:West Central Initiative 1000 Western Ave | PO Box 318\, Fergus Falls\, Minnesota 56538
UID:e.314.54581
SEQUENCE:3
DTSTAMP:20260422T190218Z
URL:https://business.fergusfalls.com/events/details/recruiting-and-retaining-top-employees-fergus-falls-54581
END:VEVENT

END:VCALENDAR
