BEGIN:VCALENDAR
VERSION:2.0
PRODID:-//ChamberMaster//Event Calendar 2.0//EN
METHOD:PUBLISH
X-PUBLISHED-TTL:P3D
REFRESH-INTERVAL:P3D
CALSCALE:GREGORIAN
BEGIN:VEVENT
DTSTART:20160512T160000Z
DTEND:20160512T230000Z
X-MICROSOFT-CDO-ALLDAYEVENT:FALSE
SUMMARY:RED DAY Food Drive
DESCRIPTION:RED DAY stands for: RENEW * ENERGIZE * DONATE! Because our business thrives off the wonderful support of our community\, we are taking a day to give back to the people who need. Keller Williams Realtors and office staff will be accepting food items and donations for our local food shelf from 11am - 6pm on Thursday May 12th at Service Food Market in Fergus Falls. Please join us for a day dedicated to giving!
X-ALT-DESC;FMTTYPE=text/html:RED DAY stands for: RENEW * ENERGIZE * DONATE! Because our business thrives off the wonderful support of our community\, we are taking a day to give back to the people who need. Keller Williams Realtors and office staff will be accepting food items and donations for our local food shelf from 11am - 6pm on Thursday May 12th at Service Food Market in Fergus Falls. Please join us for a day dedicated to giving!
LOCATION:Service Food Market 321 West Lincoln Fergus Falls\, MN
UID:e.314.32675
SEQUENCE:3
DTSTAMP:20260425T145603Z
URL:https://business.fergusfalls.com/events/details/red-day-food-drive-05-12-2016-32675
END:VEVENT

END:VCALENDAR
