BEGIN:VCALENDAR
VERSION:2.0
PRODID:-//ChamberMaster//Event Calendar 2.0//EN
METHOD:PUBLISH
X-PUBLISHED-TTL:P3D
REFRESH-INTERVAL:P3D
CALSCALE:GREGORIAN
BEGIN:VEVENT
DTSTART:20160512T160000Z
DTEND:20160512T230000Z
X-MICROSOFT-CDO-ALLDAYEVENT:FALSE
SUMMARY:RED DAY (Renew... Energize... Donate!)
DESCRIPTION:Keller Williams Realty Professionals 4th Annual 'Red Day'.\n\nIn an effort to give back to our community\, KW agents will be collecting non parishable food and donations for our local food shelf at Service Food Super Valu from 11am to 6pm on Thursday\, May 12th. See you there!
X-ALT-DESC;FMTTYPE=text/html:<div style="text-align: center\;"><strong>Keller Williams Realty Professionals 4th Annual &#39\;<span style="color: rgb(255\, 0\, 0)\;">Red Day</span>&#39\;.<br />\nIn an effort to give back to our community\, KW agents will be collecting non parishable food and donations for our local food shelf at Service Food Super Valu from 11am to 6pm on Thursday\, May 12th. See you there!</strong></div>\n
LOCATION:Service Food Super Valu in Fergus Falls\, MN
UID:e.314.32661
SEQUENCE:3
DTSTAMP:20260425T145321Z
URL:https://business.fergusfalls.com/events/details/red-day-renew-energize-donate-05-12-2016-32661
END:VEVENT

END:VCALENDAR
