BEGIN:VCALENDAR
VERSION:2.0
PRODID:-//ChamberMaster//Event Calendar 2.0//EN
METHOD:PUBLISH
X-PUBLISHED-TTL:P3D
REFRESH-INTERVAL:P3D
CALSCALE:GREGORIAN
BEGIN:VEVENT
DTSTART:20160624T220000Z
DTEND:20160624T233000Z
X-MICROSOFT-CDO-ALLDAYEVENT:FALSE
SUMMARY:Red Herring String Band - Kaddatz Gallery
DESCRIPTION:Please join us for an evening of art and music. The Kaddatz Gallery is helping the Lake Region Arts Council celebrate the Arts Resource Fair by hosting a night of music and art. The Red Herring String Band will be playing some music and we will have snacks and drinks. Come enjoy the music and check out the art of Chuck Christiansen while you are here.
X-ALT-DESC;FMTTYPE=text/html:<span style="color: rgb(75\, 79\, 86)\; font-family: helvetica\, arial\, sans-serif\; font-size: 14px\; line-height: 18.76px\;">Please join us for an evening of art and music. The Kaddatz Gallery is helping the Lake Region Arts Council celebrate the Arts Resource Fair by hosting a night of music and art. The Red Herring String Band will be playing some music and we will have snacks and drinks. Come enjoy the music and check out the art of Chuck Christiansen while you are here.</span>
LOCATION:Kaddatz Gallery\, 111 West Lincoln Avenue
UID:e.314.32904
SEQUENCE:3
DTSTAMP:20260425T144325Z
URL:https://business.fergusfalls.com/events/details/red-herring-string-band-kaddatz-gallery-06-24-2016-32904
END:VEVENT

END:VCALENDAR
