BEGIN:VCALENDAR
VERSION:2.0
PRODID:-//ChamberMaster//Event Calendar 2.0//EN
METHOD:PUBLISH
X-PUBLISHED-TTL:P3D
REFRESH-INTERVAL:P3D
CALSCALE:GREGORIAN
BEGIN:VEVENT
DTSTART:20160506T011000Z
DTEND:20160506T014500Z
X-MICROSOFT-CDO-ALLDAYEVENT:FALSE
SUMMARY:Red River Valley Veterans Concerd Band
DESCRIPTION:The Red River Valley Veterans Concert Band\n\nCome for dinner & stay for the concert!
X-ALT-DESC;FMTTYPE=text/html:The Red River Valley Veterans Concert Band<br />\nCome for dinner &amp\; stay for the concert!<br />\n&nbsp\;
LOCATION:American Legion 2010 S Pebble Lake Rd Fergus Falls
UID:e.314.32671
SEQUENCE:3
DTSTAMP:20260425T145637Z
URL:https://business.fergusfalls.com/events/details/red-river-valley-veterans-concerd-band-05-05-2016-32671
END:VEVENT

END:VCALENDAR
