BEGIN:VCALENDAR
VERSION:2.0
PRODID:-//ChamberMaster//Event Calendar 2.0//EN
METHOD:PUBLISH
X-PUBLISHED-TTL:P3D
REFRESH-INTERVAL:P3D
CALSCALE:GREGORIAN
BEGIN:VEVENT
DTSTART:20160505T234500Z
DTEND:20160506T000000Z
X-MICROSOFT-CDO-ALLDAYEVENT:FALSE
SUMMARY:Red River Valley Veterans Concert Band Performs
DESCRIPTION:Please join us on May 5th for a wonderful concert by the Red River Valley Veterans Concert Band. The show begins at 6:45pm in the Light and Life Auditorium. Invite a friend to join you!
X-ALT-DESC;FMTTYPE=text/html:Please join us on May 5th for a wonderful concert by the Red River Valley Veterans Concert Band. The show begins at 6:45pm in the Light and Life Auditorium. Invite a friend to join you!
LOCATION:Lutheran Broen Home Light and Life Auditorium
UID:e.314.32670
SEQUENCE:3
DTSTAMP:20260425T163158Z
URL:https://business.fergusfalls.com/events/details/red-river-valley-veterans-concert-band-performs-05-05-2016-32670
END:VEVENT

END:VCALENDAR
