BEGIN:VCALENDAR
VERSION:2.0
PRODID:-//ChamberMaster//Event Calendar 2.0//EN
METHOD:PUBLISH
X-PUBLISHED-TTL:P3D
REFRESH-INTERVAL:P3D
CALSCALE:GREGORIAN
BEGIN:VEVENT
DTSTART:20180510T150000Z
DTEND:20180510T230000Z
X-MICROSOFT-CDO-ALLDAYEVENT:FALSE
SUMMARY:REDDAY
DESCRIPTION:May 10th 2018! Fergus Falls KW Agents will be at Service Foods in Fergus Falls and Larry's Supermarket in Battle Lake for Keller William's Red Day to collect donations for the local food banks!\n\n2018 Red Day - KW Fergus Falls\n\n\n\n\n\nRED Day\, which stands for Renew\, Energize and Donate\, is our annual day of service. Each year on the second Thursday of May\, we celebrate Mo Anderson's birthday by spending the day serving organizations and causes in our communities.
X-ALT-DESC;FMTTYPE=text/html:<span class="_4n-j _fbReactionComponent__eventDetailsContentTags fsl" data-testid="event-permalink-details">May 10th 2018! Fergus Falls KW Agents will be at Service Foods in Fergus Falls and Larry&#39\;s Supermarket in Battle Lake for Keller William&#39\;s Red Day to collect donations for the local food banks!</span><br />\n2018 Red Day - KW Fergus Falls<br />\n<br />\n<br />\n<span class="_4n-j _fbReactionComponent__eventDetailsContentTags fsl" data-testid="event-permalink-details">RED Day\, which stands for Renew\, Energize and Donate\, is our annual day of service. Each year on the second Thursday of May\, we celebrate Mo Anderson&#39\;s birthday by spending the day serving organizations and causes in our communities.</span>
LOCATION:Otter Tail County
UID:e.314.47435
SEQUENCE:3
DTSTAMP:20260423T223830Z
URL:https://business.fergusfalls.com/events/details/redday-47435
END:VEVENT

END:VCALENDAR
