BEGIN:VCALENDAR
VERSION:2.0
PRODID:-//ChamberMaster//Event Calendar 2.0//EN
METHOD:PUBLISH
X-PUBLISHED-TTL:P3D
REFRESH-INTERVAL:P3D
CALSCALE:GREGORIAN
BEGIN:VEVENT
DTSTART:20190413T140000Z
DTEND:20190413T180000Z
X-MICROSOFT-CDO-ALLDAYEVENT:FALSE
SUMMARY:Refresh
DESCRIPTION:https://www.facebook.com/events/2444674932233572/
X-ALT-DESC;FMTTYPE=text/html:https://www.facebook.com/events/2444674932233572/
LOCATION:The Naz 1319 N. Cleveland Ave.
UID:e.314.53029
SEQUENCE:3
DTSTAMP:20260423T062616Z
URL:https://business.fergusfalls.com/events/details/refresh-53029
END:VEVENT

END:VCALENDAR
