BEGIN:VCALENDAR
VERSION:2.0
PRODID:-//ChamberMaster//Event Calendar 2.0//EN
METHOD:PUBLISH
X-PUBLISHED-TTL:P3D
REFRESH-INTERVAL:P3D
CALSCALE:GREGORIAN
BEGIN:VEVENT
DTSTART:20171016T140000Z
DTEND:20171016T210000Z
X-MICROSOFT-CDO-ALLDAYEVENT:FALSE
SUMMARY:Relay for Life Pie Fundraiser
DESCRIPTION:Security State Bank is holding a pie fundraiser for Relay for Life on Monday\, Oct. 16 from 9 a.m. to 4 p.m. A delicious variety of pies and cheesecakes will be there to choose from. Take this opportunity to help us decide which bank officers will take a pie to the face. All proceeds go to our Relay for Life Team.
X-ALT-DESC;FMTTYPE=text/html:Security State Bank is holding a pie fundraiser for Relay for Life on Monday\, Oct. 16 from 9 a.m. to 4 p.m. A delicious variety of pies and cheesecakes will be there to choose from. Take this opportunity to help us decide which bank officers will take a pie to the face. All proceeds go to our Relay for Life Team.
LOCATION:Security State Bank Washington Ave Fergus Falls
UID:e.314.42728
SEQUENCE:3
DTSTAMP:20260424T092412Z
URL:https://business.fergusfalls.com/events/details/relay-for-life-pie-fundraiser-42728
END:VEVENT

END:VCALENDAR
