BEGIN:VCALENDAR
VERSION:2.0
PRODID:-//ChamberMaster//Event Calendar 2.0//EN
METHOD:PUBLISH
X-PUBLISHED-TTL:P3D
REFRESH-INTERVAL:P3D
CALSCALE:GREGORIAN
BEGIN:VEVENT
DTSTART:20160617T233000Z
DTEND:20160618T030000Z
X-MICROSOFT-CDO-ALLDAYEVENT:FALSE
SUMMARY:Relay For Life- West Otter Tail County
DESCRIPTION:Save The Date\n\n\n\nRelay For Life 2016\n\nJune 17\n\nWest Otter Tail County
X-ALT-DESC;FMTTYPE=text/html:<div style="color: gray\;">Save The Date<br />\n<br />\nRelay For Life 2016<br />\nJune 17<br />\nWest Otter Tail County</div>\n
LOCATION:
UID:e.314.27968
SEQUENCE:3
DTSTAMP:20260425T130753Z
URL:https://business.fergusfalls.com/events/details/relay-for-life-west-otter-tail-county-06-17-2016-27968
END:VEVENT

END:VCALENDAR
