BEGIN:VCALENDAR
VERSION:2.0
PRODID:-//ChamberMaster//Event Calendar 2.0//EN
METHOD:PUBLISH
X-PUBLISHED-TTL:P3D
REFRESH-INTERVAL:P3D
CALSCALE:GREGORIAN
BEGIN:VEVENT
DTSTART:20160617T210000Z
DTEND:20160618T050000Z
X-MICROSOFT-CDO-ALLDAYEVENT:FALSE
SUMMARY:Relay For Life West Otter Tail County
DESCRIPTION:Relay For Life American Cancer Society Community Event Entertainment/Food
X-ALT-DESC;FMTTYPE=text/html:Relay For Life American Cancer Society Community Event Entertainment/Food
LOCATION:MSTATE
UID:e.314.30700
SEQUENCE:3
DTSTAMP:20260425T144515Z
URL:https://business.fergusfalls.com/events/details/relay-for-life-west-otter-tail-county-06-17-2016-30700
END:VEVENT

END:VCALENDAR
