BEGIN:VCALENDAR
VERSION:2.0
PRODID:-//ChamberMaster//Event Calendar 2.0//EN
METHOD:PUBLISH
X-PUBLISHED-TTL:P3D
REFRESH-INTERVAL:P3D
CALSCALE:GREGORIAN
BEGIN:VEVENT
DTSTART:20180615T220000Z
DTEND:20180616T040000Z
X-MICROSOFT-CDO-ALLDAYEVENT:FALSE
SUMMARY:Relay for Life West Otter Tail County
DESCRIPTION:Relay For Life of West Otter Tail County
X-ALT-DESC;FMTTYPE=text/html:<strong>Relay For Life of West Otter Tail County </strong>
LOCATION:Relay For Life Otter Tail West Minnesota State Community and Technical College
UID:e.314.46364
SEQUENCE:3
DTSTAMP:20260423T225619Z
URL:https://business.fergusfalls.com/events/details/relay-for-life-west-otter-tail-county-46364
END:VEVENT

END:VCALENDAR
