BEGIN:VCALENDAR
VERSION:2.0
PRODID:-//ChamberMaster//Event Calendar 2.0//EN
METHOD:PUBLISH
X-PUBLISHED-TTL:P3D
REFRESH-INTERVAL:P3D
CALSCALE:GREGORIAN
BEGIN:VEVENT
DTSTART:20160514T000000Z
DTEND:20160514T040000Z
X-MICROSOFT-CDO-ALLDAYEVENT:FALSE
SUMMARY:Rememberin' Stuff" HS Spring Play
DESCRIPTION:"Rememberin' Stuff"\, written by Eleanor Harder\, is the 2016 High School Spring Play.\n\n\n\nMay 13th-14th\, Friday and Saturday at 7p.m. and Sunday the 15th at 2 p.m. at A Center for the Arts. \n\n\n\nSynopsis: Remember your first day of school? Your first date? The time your dog ran away or when your best friend suddenly wasn't your best friend anymore? Memories\, whether good\, bad or painful\, make us who we are. When a group of high school drama students is given the assignment to share their memories\, the result is an eclectic collection of hilarious\, heart-felt\, serious\, intense and inspiring scenes. From an improbable first date to a candlelight service for a departed friend. From selling Girl Scout cookies to dealing with divorce to learning the art of baseball. \n\n\n\nPlease support these hard-working high school thespians as they entertain and jog a memory or two for you.\n\nRememberin' Stuff\n\nRememberin' Stuff" HS Spring Play" HS Spring Play
X-ALT-DESC;FMTTYPE=text/html:<div><span style="color: rgb(75\, 79\, 86)\; font-family: helvetica\, arial\, sans-serif\; font-size: 14px\; line-height: 18.76px\; background-color: rgb(255\, 255\, 255)\;">&quot\;Rememberin&#39\; Stuff&quot\;\, written by Eleanor Harder\, is the 2016 High School Spring Play.</span><br style="color: rgb(75\, 79\, 86)\; font-family: helvetica\, arial\, sans-serif\; font-size: 14px\; line-height: 18.76px\; background-color: rgb(255\, 255\, 255)\;" />\n<br style="color: rgb(75\, 79\, 86)\; font-family: helvetica\, arial\, sans-serif\; font-size: 14px\; line-height: 18.76px\; background-color: rgb(255\, 255\, 255)\;" />\n<span style="color: rgb(75\, 79\, 86)\; font-family: helvetica\, arial\, sans-serif\; font-size: 14px\; line-height: 18.76px\; background-color: rgb(255\, 255\, 255)\;">May 13th-14th\, Friday and Saturday at 7p.m. and Sunday the 15th at 2 p.m. at A Center for the Arts.&nbsp\;</span><br style="color: rgb(75\, 79\, 86)\; font-family: helvetica\, arial\, sans-serif\; font-size: 14px\; line-height: 18.76px\; background-color: rgb(255\, 255\, 255)\;" />\n<br style="color: rgb(75\, 79\, 86)\; font-family: helvetica\, arial\, sans-serif\; font-size: 14px\; line-height: 18.76px\; background-color: rgb(255\, 255\, 255)\;" />\n<span style="color: rgb(75\, 79\, 86)\; font-family: helvetica\, arial\, sans-serif\; font-size: 14px\; line-height: 18.76px\; background-color: rgb(255\, 255\, 255)\;">Synopsis: Remember your first day of school? Your first date? The time your dog ran away or when your best friend suddenly wasn&rsquo\;t your best friend anymore? Memories\, whether good\, bad or painful\, make us who we are. When a group of high school drama students is given the assignment to share their memories\, the result is an eclectic collection of hilarious\, heart-felt\, serious\, intense and inspiring scenes. From an improbable first date to a candlelight service for a departed friend. From selling Girl Scout cookies to dealing with divorce to learning the art of baseball.&nbsp\;</span><br style="color: rgb(75\, 79\, 86)\; font-family: helvetica\, arial\, sans-serif\; font-size: 14px\; line-height: 18.76px\; background-color: rgb(255\, 255\, 255)\;" />\n<br style="color: rgb(75\, 79\, 86)\; font-family: helvetica\, arial\, sans-serif\; font-size: 14px\; line-height: 18.76px\; background-color: rgb(255\, 255\, 255)\;" />\n<span style="color: rgb(75\, 79\, 86)\; font-family: helvetica\, arial\, sans-serif\; font-size: 14px\; line-height: 18.76px\; background-color: rgb(255\, 255\, 255)\;">Please support these hard-working high school thespians as they entertain and jog a memory or two for you.</span></div>\n\n<div><span style="color: rgb(255\, 255\, 255)\; font-family: helvetica\, arial\, sans-serif\; font-size: 20px\; line-height: 24px\; text-decoration: underline\; background-color: rgb(255\, 255\, 255)\;">Rememberin&#39\; Stuff</span></div>\n\n<div><span style="color: rgb(255\, 255\, 255)\; font-family: helvetica\, arial\, sans-serif\; font-size: 20px\; line-height: 24px\; text-decoration: underline\; background-color: rgb(255\, 255\, 255)\;">Rememberin&#39\; Stuff&quot\; HS Spring Play</span><span style="color: rgb(255\, 255\, 255)\; font-family: helvetica\, arial\, sans-serif\; font-size: 20px\; line-height: 24px\; text-decoration: underline\; background-color: rgb(255\, 255\, 255)\;">&quot\; HS Spring Play</span></div>\n
LOCATION:A Center for the Arts 124 W Lincoln Ave\, Fergus Falls\, Minnesota 56537
UID:e.314.32687
SEQUENCE:3
DTSTAMP:20260425T162757Z
URL:https://business.fergusfalls.com/events/details/rememberin-stuff-hs-spring-play-05-13-2016-32687
END:VEVENT

END:VCALENDAR
