BEGIN:VCALENDAR
VERSION:2.0
PRODID:-//ChamberMaster//Event Calendar 2.0//EN
METHOD:PUBLISH
X-PUBLISHED-TTL:P3D
REFRESH-INTERVAL:P3D
CALSCALE:GREGORIAN
BEGIN:VEVENT
DTSTART:20170318T133000Z
DTEND:20170318T211500Z
X-MICROSOFT-CDO-ALLDAYEVENT:FALSE
SUMMARY:Renew Your License
DESCRIPTION:The Minnesota Department of Education requires specific professional development activities for renewal of a teacher license. The six specific areas include:\n\n  Positive Behavioral Intervention Strategies\n\n  Accommodation\, Modification\, and Adaptation of Curriculum\, Materials\, and Instruction\n\n  Key Warning Signs for Early-Onset Mental Illness in Children and Adolescents\n\n  Reading Preparation\n\n  Technology\n\n  Best Teaching Practices for English Language Learners.\n\n\n\nLCSC is offering a one day workshop called "Renew Your License" that will cover all six areas. Teachers can choose to come to one or all sessions. Please consult with your local district CEU approval committee for preapproval of the credits.\n\n\n\nAgenda\n\n  8:30   9:30 - Positive Behavioral Intervention Strategies\n\n  9:45   10:45 - Key Warning Signs for Early-Onset Mental Illness in Children and Adolescents\n\n  11:00   12:00   Technology\n\n  12:00   12:45 - Lunch on your own\n\n  12:45   1:45 - Accommodation\, Modification\, and Adaptation of Curriculum\, Materials\, and Instruction\n\n  2:00   3:00 - Reading Preparation\n\n  3:15 - 4:15 - Best Teaching Practices for English Language Learners\n\n\n\nFee structure: $99 for full day workshop (includes 4 or more sessions) and $65 for half day workshop (includes 3 or fewer sessions)\n\n\n\nThis workshop will be held at Lakes Country Service Cooperative\, 1001 E. Mount Faith\, Fergus Falls\, MN 56537\n\n\n\nPre-Payment is Required.\n\n\n\nCANCELLATIONS AND REFUNDS\n\nCancellations will be accepted up to three business days prior to the event date for a full refund.\n\nCancellations made within 48 hours of the event start date will forfeit 50% of the event registration fee. Refund requests must be made no later than two weeks after the event.\n\nRefunds will not be given for non-attendance without prior notification.\n\nRefunds will be given for any event cancelled by LCSC.
X-ALT-DESC;FMTTYPE=text/html:The Minnesota Department of Education requires specific professional development activities for renewal of a teacher license. The six specific areas include:<br />\n&middot\; Positive Behavioral Intervention Strategies<br />\n&middot\; Accommodation\, Modification\, and Adaptation of Curriculum\, Materials\, and Instruction<br />\n&middot\; Key Warning Signs for Early-Onset Mental Illness in Children and Adolescents<br />\n&middot\; Reading Preparation<br />\n&middot\; Technology<br />\n&middot\; Best Teaching Practices for English Language Learners.<br />\n<br />\nLCSC is offering a one day workshop called &ldquo\;Renew Your License&rdquo\; that will cover all six areas. Teachers can choose to come to one or all sessions. Please consult with your local district CEU approval committee for preapproval of the credits.<br />\n<br />\nAgenda<br />\n&middot\; 8:30 &ndash\; 9:30 - Positive Behavioral Intervention Strategies<br />\n&middot\; 9:45 &ndash\; 10:45 - Key Warning Signs for Early-Onset Mental Illness in Children and Adolescents<br />\n&middot\; 11:00 &ndash\; 12:00 &ndash\; Technology<br />\n&middot\; 12:00 &ndash\; 12:45 - Lunch on your own<br />\n&middot\; 12:45 &ndash\; 1:45 - Accommodation\, Modification\, and Adaptation of Curriculum\, Materials\, and Instruction<br />\n&middot\; 2:00 &ndash\; 3:00 - Reading Preparation<br />\n&middot\; 3:15 - 4:15 - Best Teaching Practices for English Language Learners<br />\n<br />\nFee structure: $99 for full day workshop (includes 4 or more sessions) and $65 for half day workshop (includes 3 or fewer sessions)<br />\n<br />\nThis workshop will be held at Lakes Country Service Cooperative\, 1001 E. Mount Faith\, Fergus Falls\, MN 56537<br />\n<br />\nPre-Payment is Required.<br />\n<br />\nCANCELLATIONS AND REFUNDS<br />\nCancellations will be accepted up to three business days prior to the event date for a full refund.<br />\nCancellations made within 48 hours of the event start date will forfeit 50% of the event registration fee. Refund requests must be made no later than two weeks after the event.<br />\nRefunds will not be given for non-attendance without prior notification.<br />\nRefunds will be given for any event cancelled by LCSC.
LOCATION:Lakes Country Service Cooperative 1001 E. Mount Faith Fergus Falls\, MN 56537
UID:e.314.38724
SEQUENCE:3
DTSTAMP:20260424T224810Z
URL:https://business.fergusfalls.com/events/details/renew-your-license-38724
END:VEVENT

END:VCALENDAR
