BEGIN:VCALENDAR
VERSION:2.0
PRODID:-//ChamberMaster//Event Calendar 2.0//EN
METHOD:PUBLISH
X-PUBLISHED-TTL:P3D
REFRESH-INTERVAL:P3D
CALSCALE:GREGORIAN
BEGIN:VEVENT
DTSTART:20180927T190000Z
DTEND:20180927T230000Z
X-MICROSOFT-CDO-ALLDAYEVENT:FALSE
SUMMARY:RIB FEST at Service Food
DESCRIPTION:Rib Fest is here! Come to Service Food Market\, Thursday\, September 27th\, from 2pm to 6pm (while supplies last) We will be serving hot and ready to eat ribs! Whole rack of ribs is only$11. We will have baked potatoes\, as well as a variety of deli made sides!
X-ALT-DESC;FMTTYPE=text/html:Rib Fest is here! Come to Service Food Market\, Thursday\, September 27th\, from 2pm to 6pm (while supplies last) We will be serving hot and ready to eat ribs! Whole rack of ribs is only$11. We will have baked potatoes\, as well as a variety of deli made sides!
LOCATION:Service Food Lincoln Ave
UID:e.314.50400
SEQUENCE:3
DTSTAMP:20260423T165344Z
URL:https://business.fergusfalls.com/events/details/rib-fest-at-service-food-50400
END:VEVENT

END:VCALENDAR
