BEGIN:VCALENDAR
VERSION:2.0
PRODID:-//ChamberMaster//Event Calendar 2.0//EN
METHOD:PUBLISH
X-PUBLISHED-TTL:P3D
REFRESH-INTERVAL:P3D
CALSCALE:GREGORIAN
BEGIN:VEVENT
DTSTART:20151110T200000Z
DTEND:20151110T210000Z
X-MICROSOFT-CDO-ALLDAYEVENT:FALSE
SUMMARY:Ribbon Cutting - Battle Lake Inn & Suites Grand Opening!
DESCRIPTION:Battle Lake Inn & Suites *\n\nGrand Opening & Ribbon Cutting\n\n\n\n \nBattle Lake Inn & Suites\n\n102 Glenhaven Drive\n\nBattle Lake\, MN 56515
X-ALT-DESC;FMTTYPE=text/html:<strong>Battle Lake Inn &amp\; Suites *<br />\nGrand Opening &amp\; Ribbon Cutting</strong><br />\n<br />\n&nbsp\;\n<div class="mn-address1" itemprop="streetAddress"><em>Battle Lake Inn &amp\; Suites<br />\n102 Glenhaven Drive</em></div>\n\n<div class="mn-citystatezip"><em><span class="mn-cityspan" itemprop="addressLocality">Battle Lake</span><span class="mn-commaspan">\, </span><span class="mn-stspan" itemprop="addressRegion">MN</span> <span class="mn-zipspan" itemprop="postalCode">56515</span></em></div>\n
LOCATION:We will leave from the Chamber office at 1:30pm and return to Fergus Falls at 3pm. Battle Lake Inn & Suites 102 Glenhaven Drive Battle Lake\, MN 56515
UID:e.314.26446
SEQUENCE:3
DTSTAMP:20260426T030809Z
URL:https://business.fergusfalls.com/events/details/ribbon-cutting-battle-lake-inn-suites-grand-opening-11-10-2015-26446
END:VEVENT

END:VCALENDAR
