BEGIN:VCALENDAR
VERSION:2.0
PRODID:-//ChamberMaster//Event Calendar 2.0//EN
METHOD:PUBLISH
X-PUBLISHED-TTL:P3D
REFRESH-INTERVAL:P3D
CALSCALE:GREGORIAN
BEGIN:VEVENT
DTSTART:20151125T173000Z
DTEND:20151125T180000Z
X-MICROSOFT-CDO-ALLDAYEVENT:FALSE
SUMMARY:Ribbon Cutting Fergus Home & Hardware (Cullen's Home Center)
DESCRIPTION:Fergus Home & Hardware ~ Ribbon Cutting\n\nCome see all of the changes at Cullen's Home Center & Floor to Ceiling -- now Fergus Home & Hardware -- supplying everything you need for your home.
X-ALT-DESC;FMTTYPE=text/html:<strong>Fergus Home &amp\; Hardware ~ Ribbon Cutting</strong><br />\nCome see all of the changes at Cullen&#39\;s Home Center &amp\; Floor to Ceiling -- now Fergus Home &amp\; Hardware -- supplying everything you need for your home.<br />\n<br />\n<br />\n&nbsp\;
LOCATION:1005 North Tower Road Fergus Falls
UID:e.314.26448
SEQUENCE:3
DTSTAMP:20260426T011851Z
URL:https://business.fergusfalls.com/events/details/ribbon-cutting-fergus-home-hardware-cullen-s-home-center-11-25-2015-26448
END:VEVENT

END:VCALENDAR
