BEGIN:VCALENDAR
VERSION:2.0
PRODID:-//ChamberMaster//Event Calendar 2.0//EN
METHOD:PUBLISH
X-PUBLISHED-TTL:P3D
REFRESH-INTERVAL:P3D
CALSCALE:GREGORIAN
BEGIN:VEVENT
DTSTART:20190413T160000Z
DTEND:20190413T163000Z
X-MICROSOFT-CDO-ALLDAYEVENT:FALSE
SUMMARY:Ribbon Cutting - Grand Opening Celebration
DESCRIPTION:Thank you for helping to make the Library Renewal Project a reality for our community! The library held a soft opening on January 22 and since then nearly 20\,000 visits have been made to the library\, and items were checked out more than 21\,000 times in February. With spring in the air and the snow melting--it's time to celebrate!\n\n\n\nA Grand Opening Celebration for the Fergus Falls Public Library Renewal Project is set for Saturday\, April 13. The event is free and open to all. Highlights include:\n\n\n\n9 a.m.: Noon Kiwanis Egg Hunt in the Library\, followed by the annual Noon Kiwanis Teddy Bear Picnic Family Storytime\n\n\n\n10 a.m.-Noon: Facepainting in the Children's Area\n\n\n\n11 a.m.: Ribbon Cutting Ceremony\n\n\n\n1 p.m.: "This One's for the Books: Our Library Through the Ages\," presented by Chris Schuelke\, OTCHS Director. Sponsored by the Friends of the Fergus Falls Public Library\n\n\n\n1-3 p.m.: Meet the Makerspace: 3D pen and printer\, button maker\, robots and more!\n\n\n\nWe look forward to celebrating with you!
X-ALT-DESC;FMTTYPE=text/html:Thank you for helping to make the Library Renewal Project a reality for our community! The library held a soft opening on January 22 and since then nearly 20\,000 visits have been made to the library\, and items were checked out more than 21\,000 times in February. With spring in the air and the snow melting--it&#39\;s time to celebrate!<br />\n<br />\n<strong>A Grand Opening Celebration for the Fergus Falls Public Library Renewal Project is set for Saturday\, April 13. The event is free and open to all. Highlights include:</strong><br />\n<br />\n9 a.m.: Noon Kiwanis Egg Hunt in the Library\, followed by the annual Noon Kiwanis Teddy Bear Picnic Family Storytime<br />\n<br />\n10 a.m.-Noon: Facepainting in the Children&#39\;s Area<br />\n<br />\n<span style="color: rgb(0\, 0\, 255)\;">11 a.m.: Ribbon Cutting Ceremony</span><br />\n<br />\n1 p.m.: &quot\;This One&#39\;s for the Books: Our Library Through the Ages\,&quot\; presented by Chris Schuelke\, OTCHS Director. Sponsored by the Friends of the Fergus Falls Public Library<br />\n<br />\n1-3 p.m.: Meet the Makerspace: 3D pen and printer\, button maker\, robots and more!<br />\n<br />\nWe look forward to celebrating with you!<br />\n&nbsp\;
LOCATION:Fergus Falls Public Library 205 E. Hampden Ave.\, Fergus Falls\,
UID:e.314.53031
SEQUENCE:3
DTSTAMP:20260423T063048Z
URL:https://business.fergusfalls.com/events/details/ribbon-cutting-grand-opening-celebration-53031
END:VEVENT

END:VCALENDAR
