BEGIN:VCALENDAR
VERSION:2.0
PRODID:-//ChamberMaster//Event Calendar 2.0//EN
METHOD:PUBLISH
X-PUBLISHED-TTL:P3D
REFRESH-INTERVAL:P3D
CALSCALE:GREGORIAN
BEGIN:VEVENT
DTSTART:20180608T150000Z
DTEND:20180608T153000Z
X-MICROSOFT-CDO-ALLDAYEVENT:FALSE
SUMMARY:Ribbon Cutting/Grand Opening - Little Chief Outpost
DESCRIPTION:Please Join Us for a brief Ribbon Cutting Ceremony to help kick-off the GRAND OPENING of the NEW Business\, Little Chief Outpost!\n\n\n\nGrand Opening will follow with light lunch samples at the Little Chief Outpost and continue later that afternoon with some impressive fuel discounts...\n\n\n\n"We are going to sell regular gas for .99 a gallon at 3pm through anyone in line by 5:30\, as well as some free sampling of food from the deli over lunch.  We hope to see you there! - Zach Rogers
X-ALT-DESC;FMTTYPE=text/html:<span style="font-family: &quot\;Calibri&quot\;\,sans-serif\; font-size: 11pt\; mso-fareast-font-family: Calibri\; mso-fareast-theme-font: minor-latin\; mso-bidi-font-family: Calibri\; mso-ansi-language: EN-US\; mso-fareast-language: EN-US\; mso-bidi-language: AR-SA\;"><font color="#000000"><strong>Please Join Us for a brief Ribbon Cutting Ceremony to help kick-off the GRAND OPENING of the NEW Business\,&nbsp\;Little Chief Outpost!</strong><br />\n<br />\nGrand Opening will follow with light lunch samples at the Little Chief Outpost and continue later that afternoon with some impressive&nbsp\;fuel discounts...<br />\n<br />\n<span style="font-size: 12px\;"><em>&quot\;We are going to sell regular gas for .99 a gallon at 3pm&nbsp\;through anyone in line by 5:30\, as well as some free sampling of food from the deli over lunch.&nbsp\; We hope to see you there! - Zach Rogers </em></span></font></span>
LOCATION:Little Chief Outpost Pebble Lake Road Fergus Falls MN
UID:e.314.48923
SEQUENCE:3
DTSTAMP:20260423T213757Z
URL:https://business.fergusfalls.com/events/details/ribbon-cutting-grand-opening-little-chief-outpost-48923
END:VEVENT

END:VCALENDAR
