BEGIN:VCALENDAR
VERSION:2.0
PRODID:-//ChamberMaster//Event Calendar 2.0//EN
METHOD:PUBLISH
X-PUBLISHED-TTL:P3D
REFRESH-INTERVAL:P3D
CALSCALE:GREGORIAN
BEGIN:VEVENT
DTSTART:20180511T150000Z
DTEND:20180511T153000Z
X-MICROSOFT-CDO-ALLDAYEVENT:FALSE
SUMMARY:Ribbon Cutting - Mattress Firm
DESCRIPTION:Join us as we CELEBRATE a NEW Business in Fergus Falls! \n\n\n\nThe Mattress Firm and the Fergus Falls Area Chamber of Commerce request your presence for a Ribbon Cutting Ceremony at 10:00 am on Friday\, May 11\, 2018.\n\n\n\n\n\n \nWhy? \n\nThe Chamber of Commerce serves as the active communication link to cultivate and promote a positive relationship between the Chamber of Commerce and the business community. We host Ambassador Visits for: \n\n\n	New Members to the Fergus Falls Area Chamber of Commerce \n	Current Chamber Member Anniversaries (5/10 year increments) \n	Ribbon Cuttings\, Grand Openings\, New Partnerships\, New Owners\, Remodels\, Relocations\, Expansions\, New Services\, First Dollars & Ground Breaking Events
X-ALT-DESC;FMTTYPE=text/html:<span style="font-size: 18px\;"><strong>Join us as we <span style="color: rgb(255\, 0\, 0)\;">CELEBRATE</span>&nbsp\;a NEW Business in Fergus Falls! </strong></span><br />\n<br />\n<strong>The<span style="color: rgb(255\, 0\, 0)\;"><strong> </strong>Mattress Firm </span>and the Fergus Falls Area Chamber of Commerce request your presence for a Ribbon Cutting Ceremony at 10:00 am on Friday\, May 11\, 2018.</strong><br />\n<br />\n<br />\n&nbsp\;\n<p align="LEFT"><em><span style="font-size: 12px\;">Why? </span></em></p>\n\n<p><em><span style="font-size: 12px\;">The Chamber of Commerce serves as the active communication link to cultivate and promote a positive relationship between the Chamber of Commerce and the business community. We host Ambassador Visits for: </span></em></p>\n\n<ul>\n	<li><em><span style="font-size: 12px\;"><strong>New Members </strong>to the Fergus Falls Area Chamber of Commerce </span></em></li>\n	<li><em><span style="font-size: 12px\;">Current Chamber Member Anniversaries (5/10 year increments) </span></em></li>\n	<li><em><span style="font-size: 12px\;"><strong>Ribbon Cuttings</strong>\, Grand Openings\, New Partnerships\, New Owners\, Remodels\, Relocations\, Expansions\, New Services\, First Dollars &amp\; Ground Breaking Events </span></em></li>\n</ul>\n
LOCATION:Mattress Firm 2320 College Way (next to Jimmy John's) Fergus Falls\, MN
UID:e.314.48855
SEQUENCE:3
DTSTAMP:20260423T224838Z
URL:https://business.fergusfalls.com/events/details/ribbon-cutting-mattress-firm-48855
END:VEVENT

END:VCALENDAR
