BEGIN:VCALENDAR
VERSION:2.0
PRODID:-//ChamberMaster//Event Calendar 2.0//EN
METHOD:PUBLISH
X-PUBLISHED-TTL:P3D
REFRESH-INTERVAL:P3D
CALSCALE:GREGORIAN
BEGIN:VEVENT
DTSTART:20200221T190000Z
DTEND:20200221T203000Z
X-MICROSOFT-CDO-ALLDAYEVENT:FALSE
SUMMARY:Ribbon Cutting & Open House: Center for Student and Workforce Success
DESCRIPTION:Please join us! You are invited to attend the open house for M State's new Center for Student and Workforce Success on the Fergus Falls campus.\n\n\n\n1-2:30 p.m. Friday\, Feb. 21\, with a short program & Chamber Ribbon Cutting at 1 p.m.\n\n\n\nFor easy access\, park on the south side of the campus.\n\nThis unique project was funded by the State of Minnesota and local donors through Fergus Area College Foundation. Together\, we've created a space that expands access to education\, workforce training and employment opportunities for the entire community. We invite you to celebrate this innovation with us!
X-ALT-DESC;FMTTYPE=text/html:<p><span>Please join us! You are invited to attend the open house for M State&rsquo\;s new Center for Student and Workforce Success on the Fergus Falls campus.<br />\n<br />\n1-2:30 p.m. Friday\, Feb. 21\, with a short program &amp\; Chamber Ribbon Cutting at 1 p.m.<br />\n<br />\nFor easy access\, park on the south side of the campus.</span></p>\n\n<p><span><span><span>This unique project was funded by the State of Minnesota and local donors through Fergus Area College Foundation. Together\, we&rsquo\;ve created a space that expands access to education\, workforce training and employment opportunities for the entire community. We invite you to celebrate this innovation with us!</span></span></span></p>\n
LOCATION:Fergus Area College Foundation/FF Spartan Alumni 1414 College Way\, Fergus Falls\, Minnesota 56537
UID:e.314.56266
SEQUENCE:3
DTSTAMP:20260422T143052Z
URL:https://business.fergusfalls.com/events/details/ribbon-cutting-open-house-center-for-student-and-workforce-success-56266
END:VEVENT

END:VCALENDAR
