BEGIN:VCALENDAR
VERSION:2.0
PRODID:-//ChamberMaster//Event Calendar 2.0//EN
METHOD:PUBLISH
X-PUBLISHED-TTL:P3D
REFRESH-INTERVAL:P3D
CALSCALE:GREGORIAN
BEGIN:VEVENT
DTSTART:20200814T190000Z
DTEND:20200814T193000Z
X-MICROSOFT-CDO-ALLDAYEVENT:FALSE
SUMMARY:Ribbon Cutting: Protection Pros Disinfecting Services
DESCRIPTION:Join us a we officially welcome Protection Pros Disinfecting Services Inc. -- another NEW business in Fergus Falls with a "Ribbon Cutting" celebration.\nLocal business owners\, Erin and Randy Halvorson\, have started a new service to help combat the effects of the pandemic.\n\nProtection Pros Disinfecting Services provides the area's only complete\, continuous\, food-safe\, and environmentally responsible disinfecting service for up to 90 days. This is the only solution that is EPA-approved to kill COVID-19.\n\n\n\nWe will adhere to CDC guidelines for Social Distancing and masks will be required and provided.
X-ALT-DESC;FMTTYPE=text/html:<span style="font-size:12px\;"><span style="font-family:verdana\;">Join us a we officially welcome Protection Pros Disinfecting Services Inc. -- another NEW business in Fergus Falls with a &quot\;Ribbon Cutting&quot\; celebration.</span></span>\n<p style="margin: 0px 0px 6px\; font-family: Helvetica\, Arial\, sans-serif\; color: rgb(28\, 30\, 33)\; font-size: 14px\;"><span style="font-size:12px\;"><span style="font-family:verdana\;">Local business owners\, Erin and Randy Halvorson\, have started a new service to help combat the effects of the pandemic.</span></span></p>\n\n<p style="margin: 6px 0px\; font-family: Helvetica\, Arial\, sans-serif\; color: rgb(28\, 30\, 33)\; font-size: 14px\;"><span style="font-size:12px\;"><span style="font-family:verdana\;"><a class="profileLink" data-hovercard="/ajax/hovercard/page.php?id=100806571722048&amp\;extragetparams=%7B%22__tn__%22%3A%22%2CdK-R-R%22%2C%22eid%22%3A%22ARArIY_DwOLxVTDti3_bhmM1Zh_WmazA5iTiKAgkw5YTTjtQayTT6FidnB1sEXFR2xuEg7seyPDTypD6%22%2C%22fref%22%3A%22mentions%22%7D" data-hovercard-prefer-more-content-show="1" href="https://www.facebook.com/ppdsmn/?__tn__=K-R&amp\;eid=ARArIY_DwOLxVTDti3_bhmM1Zh_WmazA5iTiKAgkw5YTTjtQayTT6FidnB1sEXFR2xuEg7seyPDTypD6&amp\;fref=mentions&amp\;__xts__%5B0%5D=68.ARD5nyXd9m38b3E3g_qC8PeBtON9dEBr_xDnDUbf194Wb7SEHK_gPuTVSGWpBUhypT40cqJi-eGgaP-gQGsj8aborvVeqsgUaxJ7mGja1ZIkjRSfxHRFxAAN66_9wOiGe1WE5WUCnBGdXWXsI8kIyUkjP-kDhz1nlBD7tawW4J6qp5Ngp_P_hftcZAs2L8y40GLIwXnKoqtCdcU9jfL4-LPihJOzSWy2f3rEIEw5C7vp0qHqD_DCduw3jcyBpcUuSl4Wm_WgrUNYRIcv3vK1658oS2CGg61j66uk7fTPjaF3JHrOPZiD-0ezWUO3m8fgubo0LnBfeQoiSyF-BXskudI" style="color: rgb(56\, 88\, 152)\; cursor: pointer\; text-decoration-line: none\; font-family: inherit\;">Protection Pros Disinfecting Services</a>&nbsp\;provides the area&#39\;s only complete\, continuous\, food-safe\, and environmentally responsible disinfecting service for up to 90 days. This is the only solution that is EPA-approved to kill COVID-19.</span></span><br />\n<br />\nWe will adhere to CDC guidelines for Social Distancing and&nbsp\;masks will be required and provided.&nbsp\;</p>\n<br />\n&nbsp\;
LOCATION:Outside Fergus Falls Area Chamber of Commerce 202 S. Court St. Fergus Falls\, MN 56537
UID:e.314.57784
SEQUENCE:3
DTSTAMP:20260422T052235Z
URL:https://business.fergusfalls.com/events/details/ribbon-cutting-protection-pros-disinfecting-services-57784
END:VEVENT

END:VCALENDAR
