BEGIN:VCALENDAR
VERSION:2.0
PRODID:-//ChamberMaster//Event Calendar 2.0//EN
METHOD:PUBLISH
X-PUBLISHED-TTL:P3D
REFRESH-INTERVAL:P3D
CALSCALE:GREGORIAN
BEGIN:VEVENT
DTSTART:20151021T170000Z
DTEND:20151021T173000Z
X-MICROSOFT-CDO-ALLDAYEVENT:FALSE
SUMMARY:Ribbon Cutting - Sky Digital Advertising
DESCRIPTION:Join Us As We Welcome Sky Digital Advertising:\n\nSky Digital Advertising uses digital displays made up of over a quarter million LEDs & when using cutting-edge technology as your very own advertising medium\, you don't want to waste its capabilities.\n\n\n\nWed October 21\,\n\n12:00 Sky Digital -  Ribbon Cutting- New Member \n\n615 Frontier Drive
X-ALT-DESC;FMTTYPE=text/html:<span style="color: rgb(0\, 0\, 255)\;"><strong>Join Us As We Welcome Sky Digital Advertising:</strong></span><br />\nSky Digital Advertising uses digital displays made up of over a quarter million LEDs &amp\; when using cutting-edge technology as your very own advertising medium\, you don&#39\;t want to waste its capabilities.<br />\n<br />\n<span style="color: rgb(0\, 0\, 255)\;"><strong>Wed October 21\,<br />\n12:00 </strong></span><span style="color: rgb(0\, 0\, 0)\;"><strong>Sky Digital -&nbsp\; <em>Ribbon Cutting- </em></strong><em>New Member </em><br />\n615 Frontier Drive </span>
LOCATION:615 Frontier Drive
UID:e.314.24532
SEQUENCE:3
DTSTAMP:20260426T030136Z
URL:https://business.fergusfalls.com/events/details/ribbon-cutting-sky-digital-advertising-10-21-2015-24532
END:VEVENT

END:VCALENDAR
