BEGIN:VCALENDAR
VERSION:2.0
PRODID:-//ChamberMaster//Event Calendar 2.0//EN
METHOD:PUBLISH
X-PUBLISHED-TTL:P3D
REFRESH-INTERVAL:P3D
CALSCALE:GREGORIAN
BEGIN:VEVENT
DTSTART:20180531T190000Z
DTEND:20180531T230000Z
X-MICROSOFT-CDO-ALLDAYEVENT:FALSE
SUMMARY:Ribfest @ Service Food
DESCRIPTION:Come and get some hot and ready ribs fresh off the grill! We will be in our parking lot\, Thursday May 31st from 2pm-6pm! Full rack of ribs is only $11\, hot and ready to eat!
X-ALT-DESC;FMTTYPE=text/html:<div class="_63ew"><span>Come and get some hot and ready ribs fresh off the grill! We will be in our parking lot\, Thursday May 31st from 2pm-6pm! Full rack of ribs is only $11\, hot and ready to eat!</span></div>\n
LOCATION:Service Food Market - Fergus Falls 321 W Lincoln Ave
UID:e.314.48921
SEQUENCE:3
DTSTAMP:20260423T224355Z
URL:https://business.fergusfalls.com/events/details/ribfest-service-food-48921
END:VEVENT

END:VCALENDAR
