BEGIN:VCALENDAR
VERSION:2.0
PRODID:-//ChamberMaster//Event Calendar 2.0//EN
METHOD:PUBLISH
X-PUBLISHED-TTL:P3D
REFRESH-INTERVAL:P3D
CALSCALE:GREGORIAN
BEGIN:VEVENT
DTSTART:20151107T153000Z
DTEND:20151107T220000Z
X-MICROSOFT-CDO-ALLDAYEVENT:FALSE
SUMMARY:Riverfront Square Open House
DESCRIPTION:Riverfront Square Open House\n\n\n\nCome Join Us\, Cora's Closet\, Therapeutic Massage\, Collectors Corner Antiques & Lincoln Ave Antiques for an Open House in Riverfront Square!!\n\n\n\nEnjoy ....\n\nCoffee\, Cider & Refreshments\n\nSpecial Drawings\n\nMini Massages\n\nGoodie Bags\n\nSales!!
X-ALT-DESC;FMTTYPE=text/html:<div><span class="_5v1l _11s4"><a href="https://www.facebook.com/events/553377551485724/?ref=1&amp\;action_history=%5B%7B%22surface%22%3A%22permalink%22%2C%22mechanism%22%3A%22surface%22%2C%22extra_data%22%3A%5B%5D%7D%5D"><font color="#0066cc">Riverfront Square Open House</font></a></span><br />\n<br />\n<span class="fsl">Come Join Us\, Cora&#39\;s Closet\, Therapeutic Massage\, Collectors Corner Antiques &amp\; Lincoln Ave Antiques for an Open House in Riverfront Square!!<br />\n<br />\nEnjoy ....<br />\nCoffee\, Cider &amp\; Refreshments<br />\nSpecial Drawings<br />\nMini Massages<br />\nGoodie Bags<br />\nSales!!</span></div>\n
LOCATION:MiMi Rae's & AddyGrace Downtown Fergus Falls 221 W Lincoln Ave\, Fergus Falls\, Minnesota 56537
UID:e.314.26451
SEQUENCE:3
DTSTAMP:20260426T025045Z
URL:https://business.fergusfalls.com/events/details/riverfront-square-open-house-11-07-2015-26451
END:VEVENT

END:VCALENDAR
