BEGIN:VCALENDAR
VERSION:2.0
PRODID:-//ChamberMaster//Event Calendar 2.0//EN
METHOD:PUBLISH
X-PUBLISHED-TTL:P3D
REFRESH-INTERVAL:P3D
CALSCALE:GREGORIAN
BEGIN:VEVENT
DTSTART:20160308T190000Z
DTEND:20160308T223000Z
X-MICROSOFT-CDO-ALLDAYEVENT:FALSE
SUMMARY:Road Less Traveled: Advance Care Planning
DESCRIPTION:Aging is inevitable in this journey of life. Healthcare providers and others who work in related fields are well-served by a solid understanding of the basics of advance care planning. Knowledge is crucial to helping people plan in the best and most appropriate manner. Advance directives are a "Road Less Traveled". However\, having more information and making decisions regarding care in our final days can lead to a clear direction on our journey.\n\n\n\nSpeakers Karen Peterson\, BSN\, Dr. Bruce Money\, and Rev. Nate Oldenkamp will speak on advance directives\, and other subjects related to end of life planning. Cost is $25 to attend. Registration is required by calling (218) 998-1400 by March 4. CEUs are available.
X-ALT-DESC;FMTTYPE=text/html:<span class="fsl">Aging is inevitable in this journey of life. Healthcare providers and others who work in related fields are well-served by a solid understanding of the basics of advance care planning. Knowledge is crucial to helping people plan in the best and most appropriate manner. Advance directives are a &ldquo\;Road Less Traveled&rdquo\;. However\, having more information and making decisions regarding care in our final days can lead to a clear direction on our journey.<br />\n<br />\nSpeakers Karen Peterson\, BSN\, Dr. Bruce Money\, and Rev. Nate Oldenkamp will speak on advance directives\, and other subjects related to end of life planning. Cost is $25 to attend. Registration is required by calling (218) 998-1400 by March 4. CEUs are available.</span>
LOCATION:LB Homes 805 E Channing Ave\, Fergus Falls\, Minnesota 56537
UID:e.314.31319
SEQUENCE:3
DTSTAMP:20260425T201219Z
URL:https://business.fergusfalls.com/events/details/road-less-traveled-advance-care-planning-03-08-2016-31319
END:VEVENT

END:VCALENDAR
