BEGIN:VCALENDAR
VERSION:2.0
PRODID:-//ChamberMaster//Event Calendar 2.0//EN
METHOD:PUBLISH
X-PUBLISHED-TTL:P3D
REFRESH-INTERVAL:P3D
CALSCALE:GREGORIAN
BEGIN:VEVENT
DTSTART:20160109T024500Z
DTEND:20160109T055500Z
X-MICROSOFT-CDO-ALLDAYEVENT:FALSE
SUMMARY:Rockin' The Z103 Bar & Grill - Live Band-
DESCRIPTION:"Blue Grit" Rockin' your Winter Blues away! Hot Jamming on a cold night
X-ALT-DESC;FMTTYPE=text/html:<span class="fsl">&quot\;Blue Grit&quot\; Rockin&#39\; your Winter Blues away! Hot Jamming on a cold night</span>
LOCATION:Z103 Bar & Grill 902 Frontier Dr\, Fergus Falls\, Minnesota 56537 (218) 998-7625 z103@prtel.com Get Directions Rockin' your Winter Blues away ! Hot Jamming on a cold night POSTS Write Post Add Photo / Video Create Poll Drag Link/Photos/Video HereDrop LinkDrop Photo/VideoDrop Photos News Feed RECENT ACTIVITY Kate Olsen January 3 at 9:52am Mapleton\, ND You simply must get to Hagges in Mapleton!! LikeCommentShare Blue Gritt Band January 2 at 11:41am Ross\, Craig & Maurice 4 Likes LikeCommentShare Blue Gritt Band at Z103 Bar & Grill. January 2 at 11:24am Fergus Falls Friday January 8th. 9-1 2 Likes LikeCommentShare Blue Gritt Band added an event. January 2 at 11:24am 1 Like LikeComment About Create Ad Create Page Developers Careers Privacy Cookies Ad Choices Terms Help Settings Activity Log Facebook 2016 English (US) Events Manage Sections Posting as Jackie Formo Chat with friends Turn on chat to see who's available. Clear 0 Dummy Show Map Hide Map Z103 Bar & Grill 902 Frontier Dr\, Fergus Falls\, Minnesota 56537 Report Bar & Grill (218) 998-7625 z103@prtel.com Get Directions Rockin' your Winter Blues away ! Hot Jamming on a cold night POSTS Write Post Add Photo / Video Create Poll Drag Link/Photos/Video HereDrop LinkDrop Photo/VideoDrop Photos News Feed RECENT ACTIVITY Kate Olsen January 3 at 9:52am Mapleton\, ND You simply must get to Hagges in Mapleton!! LikeCommentShare Blue Gritt Band January 2 at 11:41am Ross\, Craig & Maurice 4 Likes LikeCommentShare Blue Gritt Band at Z103 Bar & Grill. January 2 at 11:24am Fergus Falls Friday January 8th. 9-1 2 Likes LikeCommentShare Blue Gritt Band added an event. January 2 at 11:24am 1 Like LikeComment About Create Ad Create Page Developers Careers Privacy Cookies Ad Choices Terms Help Settings Activity Log Facebook 2016 English (US)
UID:e.314.28009
SEQUENCE:3
DTSTAMP:20260425T233410Z
URL:https://business.fergusfalls.com/events/details/rockin-the-z103-bar-grill-live-band-01-08-2016-28009
END:VEVENT

END:VCALENDAR
