BEGIN:VCALENDAR
VERSION:2.0
PRODID:-//ChamberMaster//Event Calendar 2.0//EN
METHOD:PUBLISH
X-PUBLISHED-TTL:P3D
REFRESH-INTERVAL:P3D
CALSCALE:GREGORIAN
BEGIN:VEVENT
DTSTART;VALUE=DATE:20181015
DTEND;VALUE=DATE:20181025
TRANSP:TRANSPARENT
X-MICROSOFT-CDO-ALLDAYEVENT:TRUE
SUMMARY:Rotary Roses (PRE ORDER)
DESCRIPTION:Pre-order a dozen mixed colored roses today. Delivery date will be Thursday\, November 8. Great way to lighten up someone's day and provide support for local Rotary projects.\n\n \nHere are just a few of the service projects we do:\n\n\n \n\nRead Josh the Otter to the Kindergarten Children and Leave a Book for Each\n\nPlant Tree(s)\n\nRoadside Clean-up\n\nSell Roses to Help Spread the message and Work of Rotary\n\nRead Andy & Elmer Book to Second Grade Students (and leaving a copy for each student)\, Helping Teach what Rotary's 4-Way Test Means.\n\nWork in the Community Garden\n\nCo-host a Rotary Golf Open\n\nHelp the United Way to Stuff School Back Packs\n\nSponsor and Proctor the Noon Rotary Otter Orations\n\nDeliver Dictionaries to 3rd Grade Students\n\nRelease Toy Ducks in the River for our Annual Lucky Duck Raffle\n\nRing Bells for the Salvation Army\n\nHelp Habitat for Humanity Build Houses\n\nSell Peaches to Raise Money to Support Literacy Projects
X-ALT-DESC;FMTTYPE=text/html:<div class="_63ew" data-testid="event-permalink-details"><strong>Pre-order a dozen mixed colored roses today. Delivery date will be Thursday\, November 8. Great way to lighten up someone&#39\;s day and provide support for local Rotary projects.</strong><br />\n&nbsp\;\n<div style="color: rgb(34\, 34\, 34)\; font-family: Georgia\, &quot\;Times New Roman&quot\;\, Times\, serif\; font-size: 15px\; box-sizing: border-box\; background-color: rgb(255\, 255\, 255)\;">Here are just a few of the service projects we do:</div>\n\n<div style="color: rgb(34\, 34\, 34)\; font-family: Georgia\, &quot\;Times New Roman&quot\;\, Times\, serif\; font-size: 15px\; box-sizing: border-box\; background-color: rgb(255\, 255\, 255)\;">\n<div style="box-sizing: border-box\;">&nbsp\;</div>\n\n<div style="margin-left: 40px\; box-sizing: border-box\;">Read Josh the Otter to the Kindergarten Children and Leave a Book for Each</div>\n\n<div style="margin-left: 40px\; box-sizing: border-box\;">Plant Tree(s)</div>\n\n<div style="margin-left: 40px\; box-sizing: border-box\;">Roadside Clean-up</div>\n\n<div style="margin-left: 40px\; box-sizing: border-box\;">Sell Roses to Help Spread the message and Work of Rotary</div>\n\n<div style="margin-left: 40px\; box-sizing: border-box\;">Read Andy &amp\; Elmer Book to Second Grade Students (and leaving a copy for each student)\, Helping Teach what Rotary&#39\;s 4-Way Test Means.</div>\n\n<div style="margin-left: 40px\; box-sizing: border-box\;">Work in the Community Garden</div>\n\n<div style="margin-left: 40px\; box-sizing: border-box\;">Co-host a Rotary Golf Open</div>\n\n<div style="margin-left: 40px\; box-sizing: border-box\;">Help the United Way to Stuff School Back Packs</div>\n\n<div style="margin-left: 40px\; box-sizing: border-box\;">Sponsor and Proctor the Noon Rotary Otter Orations</div>\n\n<div style="margin-left: 40px\; box-sizing: border-box\;">Deliver Dictionaries to 3rd Grade Students</div>\n\n<div style="margin-left: 40px\; box-sizing: border-box\;">Release Toy Ducks in the&nbsp\;River for our Annual Lucky Duck Raffle</div>\n\n<div style="margin-left: 40px\; box-sizing: border-box\;">Ring Bells for the Salvation Army</div>\n\n<div style="margin-left: 40px\; box-sizing: border-box\;">Help Habitat for Humanity Build Houses</div>\n\n<div style="margin-left: 40px\; box-sizing: border-box\;">Sell Peaches to Raise Money to Support Literacy Projects</div>\n</div>\n</div>\n
LOCATION:Delivery Date will be Nov 8th
UID:e.314.50611
SEQUENCE:3
DTSTAMP:20260423T150615Z
URL:https://business.fergusfalls.com/events/details/rotary-roses-pre-order-50611
END:VEVENT

END:VCALENDAR
