BEGIN:VCALENDAR
VERSION:2.0
PRODID:-//ChamberMaster//Event Calendar 2.0//EN
METHOD:PUBLISH
X-PUBLISHED-TTL:P3D
REFRESH-INTERVAL:P3D
CALSCALE:GREGORIAN
BEGIN:VEVENT
DTSTART:20181203T233000Z
DTEND:20181204T013000Z
X-MICROSOFT-CDO-ALLDAYEVENT:FALSE
SUMMARY:Ruby's Pantry Food Distribution
DESCRIPTION:For a $20 share donation\, you will receive an abundance of grocery items. Bring 2 totes or baskets for your food distribution. There is no income or residency requirement and anyone that eats qualifies. This is a great way to extend those monthly grocery dollars.
X-ALT-DESC;FMTTYPE=text/html:For a $20 share donation\, you will receive an abundance of grocery items. Bring 2 totes or baskets for your food distribution. There is no income or residency requirement and anyone that eats qualifies. This is a great way to extend those monthly grocery dollars.
LOCATION:Church of the Nazarene Fergus Falls\, MN
UID:e.314.50353
SEQUENCE:3
DTSTAMP:20260423T133437Z
URL:https://business.fergusfalls.com/events/details/ruby-s-pantry-food-distribution-12-03-2018-50353
END:VEVENT

END:VCALENDAR
