BEGIN:VCALENDAR
VERSION:2.0
PRODID:-//ChamberMaster//Event Calendar 2.0//EN
METHOD:PUBLISH
X-PUBLISHED-TTL:P3D
REFRESH-INTERVAL:P3D
CALSCALE:GREGORIAN
BEGIN:VEVENT
DTSTART:20181001T223000Z
DTEND:20181002T003000Z
X-MICROSOFT-CDO-ALLDAYEVENT:FALSE
SUMMARY:Ruby's Pantry Food Distribution
DESCRIPTION:Ruby's Pop-Up Pantry will be coming to Fergus Falls\, MN and starts on Monday\, October 1st. For a $20 share donation\, you will receive an abundance of grocery items. Bring 2 totes or baskets for your food distribution. There is no income or residency requirement and anyone that eats qualifies. This is a great way to extend those monthly grocery dollars.
X-ALT-DESC;FMTTYPE=text/html:Ruby&#39\;s Pop-Up Pantry will be coming to Fergus Falls\, MN and starts on Monday\, October 1st. For a $20 share donation\, you will receive an abundance of grocery items. Bring 2 totes or baskets for your food distribution. There is no income or residency requirement and anyone that eats qualifies. This is a great way to extend those monthly grocery dollars.
LOCATION:Church of the Nazarene 1319 North Cleveland Avenue Fergus Falls\, MN
UID:e.314.50351
SEQUENCE:3
DTSTAMP:20260423T150528Z
URL:https://business.fergusfalls.com/events/details/ruby-s-pantry-food-distribution-50351
END:VEVENT

END:VCALENDAR
